BEGIN:VCALENDAR
VERSION:2.0
PRODID:-//GCKiB - ECPv6.15.20//NONSGML v1.0//EN
CALSCALE:GREGORIAN
METHOD:PUBLISH
X-WR-CALNAME:GCKiB
X-ORIGINAL-URL:https://gckib.iwanowice.pl
X-WR-CALDESC:Wydarzenia dla GCKiB
REFRESH-INTERVAL;VALUE=DURATION:PT1H
X-Robots-Tag:noindex
X-PUBLISHED-TTL:PT1H
BEGIN:VTIMEZONE
TZID:Europe/Warsaw
BEGIN:DAYLIGHT
TZOFFSETFROM:+0100
TZOFFSETTO:+0200
TZNAME:CEST
DTSTART:20200329T010000
END:DAYLIGHT
BEGIN:STANDARD
TZOFFSETFROM:+0200
TZOFFSETTO:+0100
TZNAME:CET
DTSTART:20201025T010000
END:STANDARD
BEGIN:DAYLIGHT
TZOFFSETFROM:+0100
TZOFFSETTO:+0200
TZNAME:CEST
DTSTART:20210328T010000
END:DAYLIGHT
BEGIN:STANDARD
TZOFFSETFROM:+0200
TZOFFSETTO:+0100
TZNAME:CET
DTSTART:20211031T010000
END:STANDARD
BEGIN:DAYLIGHT
TZOFFSETFROM:+0100
TZOFFSETTO:+0200
TZNAME:CEST
DTSTART:20220327T010000
END:DAYLIGHT
BEGIN:STANDARD
TZOFFSETFROM:+0200
TZOFFSETTO:+0100
TZNAME:CET
DTSTART:20221030T010000
END:STANDARD
END:VTIMEZONE
BEGIN:VEVENT
DTSTART;TZID=Europe/Warsaw:20210106T170000
DTEND;TZID=Europe/Warsaw:20210106T174500
DTSTAMP:20260422T041908
CREATED:20220428T075329Z
LAST-MODIFIED:20220509T124820Z
UID:39864-1609952400-1609955100@gckib.iwanowice.pl
SUMMARY:Zumba kids
DESCRIPTION:Zumba dla dzieci. Choreografie łatwe do powtórzenia i zapamiętania. Dzieci uczą się różnych tańców np. cumbia\, reggaeton\, hip-hop\, merengue\, salsa itd. Czas trwania zajęć 45 minut. Koszt 60 zł za miesiąc.
URL:https://gckib.iwanowice.pl/wydarzenie/zumba-kids-2/
LOCATION:SP/ Orlik w Iwanowicach
CATEGORIES:Zumba
ATTACH;FMTTYPE=image/png:https://gckib.iwanowice.pl/wp-content/uploads/2022/05/ZUMBA_NEW.png
END:VEVENT
BEGIN:VEVENT
DTSTART;TZID=Europe/Warsaw:20210106T175000
DTEND;TZID=Europe/Warsaw:20210106T185000
DTSTAMP:20260422T041908
CREATED:20220428T075804Z
LAST-MODIFIED:20220509T125052Z
UID:39934-1609955400-1609959000@gckib.iwanowice.pl
SUMMARY:Zumba Gold
DESCRIPTION:Zajęcia o mniejszej intensywności i wolniejszym tempie. W ramach tego programu wykorzystywane są eleementy merengue\, salsy\, cumbii\, tańca brzucha\, flamenco\, tanga i nie tylko. \nZajęcia odbywają się w środy od godziny 17:50 do 18:50. \n  \n 
URL:https://gckib.iwanowice.pl/wydarzenie/zumba-gold/
LOCATION:Gminne Centrum Kultury i Bibliotek w Iwanowicach\, Strażacka 5\, Iwanowice Włościańskie
CATEGORIES:Zumba
ATTACH;FMTTYPE=image/png:https://gckib.iwanowice.pl/wp-content/uploads/2022/05/ZUMBA_NEW.png
END:VEVENT
BEGIN:VEVENT
DTSTART;TZID=Europe/Warsaw:20210106T185000
DTEND;TZID=Europe/Warsaw:20210106T195000
DTSTAMP:20260422T041908
CREATED:20220428T080324Z
LAST-MODIFIED:20220509T124944Z
UID:40039-1609959000-1609962600@gckib.iwanowice.pl
SUMMARY:Zumba Fitness
DESCRIPTION:Połączenie tańców latynoamerykańskich z fitnessem. Rytmy salsy\, cumbii\, reggaetonu\, morengue\, cha-chy i innych. Zumba Fitness poprawia sylwetkę i pozwala na zrzucenie wagi w przyjemny sposób. \nZajęcia odbywają się w środy od godziny 18:50 do 19:50.
URL:https://gckib.iwanowice.pl/wydarzenie/zumba-fitness-2/
LOCATION:SP/ Orlik w Iwanowicach
CATEGORIES:Zumba
ATTACH;FMTTYPE=image/png:https://gckib.iwanowice.pl/wp-content/uploads/2022/05/ZUMBA_NEW.png
END:VEVENT
BEGIN:VEVENT
DTSTART;TZID=Europe/Warsaw:20210107T185000
DTEND;TZID=Europe/Warsaw:20210107T195000
DTSTAMP:20260422T041908
CREATED:20220428T080324Z
LAST-MODIFIED:20220428T080324Z
UID:40041-1610045400-1610049000@gckib.iwanowice.pl
SUMMARY:Zumba Fitness
DESCRIPTION:Połączenie tańców latynoamerykańskich z fitnessem. Rytmy salsy\, cumbii\, reggaetonu\, morengue\, cha-chy i innych. Zumba Fitness poprawia sylwetkę i pozwala na zrzucenie wagi w przyjemny sposób. \nZajęcia odbywają się w środy od godziny 18:50 do 19:50.
URL:https://gckib.iwanowice.pl/wydarzenie/zumba-fitness-2-2021-01-07/
LOCATION:SP/ Orlik w Iwanowicach
CATEGORIES:Zumba
ATTACH;FMTTYPE=image/png:https://gckib.iwanowice.pl/wp-content/uploads/2021/06/UWAGA-Nowe-deklaracje-i-nowa-oplata-Zumba-dla-doroslych-od-1-stycznia-2022.png
END:VEVENT
BEGIN:VEVENT
DTSTART;TZID=Europe/Warsaw:20210113T170000
DTEND;TZID=Europe/Warsaw:20210113T174500
DTSTAMP:20260422T041908
CREATED:20220428T075329Z
LAST-MODIFIED:20220428T075329Z
UID:39866-1610557200-1610559900@gckib.iwanowice.pl
SUMMARY:Zumba kids
DESCRIPTION:Zumba dla dzieci. Choreografie łatwe do powtórzenia i zapamiętania. Dzieci uczą się różnych tańców np. cumbia\, reggaeton\, hip-hop\, merengue\, salsa itd. Czas trwania zajęć 45 minut. Koszt 60 zł za miesiąc.
URL:https://gckib.iwanowice.pl/wydarzenie/zumba-kids-2-2021-01-13/
CATEGORIES:Zumba
ATTACH;FMTTYPE=image/png:https://gckib.iwanowice.pl/wp-content/uploads/2021/06/UWAGA-Nowe-deklaracje-i-nowa-oplata-Zumba-dla-doroslych-od-1-stycznia-2022.png
END:VEVENT
BEGIN:VEVENT
DTSTART;TZID=Europe/Warsaw:20210113T175000
DTEND;TZID=Europe/Warsaw:20210113T185000
DTSTAMP:20260422T041908
CREATED:20220428T075804Z
LAST-MODIFIED:20220428T075804Z
UID:39936-1610560200-1610563800@gckib.iwanowice.pl
SUMMARY:Zumba Gold
DESCRIPTION:Zajęcia o mniejszej intensywności i wolniejszym tempie. W ramach tego programu wykorzystywane są eleementy merengue\, salsy\, cumbii\, tańca brzucha\, flamenco\, tanga i nie tylko. \nZajęcia odbywają się w środy od godziny 17:50 do 18:50. \n  \n 
URL:https://gckib.iwanowice.pl/wydarzenie/zumba-gold-2021-01-13/
LOCATION:Gminne Centrum Kultury i Bibliotek w Iwanowicach\, Strażacka 5\, Iwanowice Włościańskie
CATEGORIES:Zumba
ATTACH;FMTTYPE=image/png:https://gckib.iwanowice.pl/wp-content/uploads/2021/06/UWAGA-Nowe-deklaracje-i-nowa-oplata-Zumba-dla-doroslych-od-1-stycznia-2022.png
END:VEVENT
BEGIN:VEVENT
DTSTART;TZID=Europe/Warsaw:20210113T185000
DTEND;TZID=Europe/Warsaw:20210113T195000
DTSTAMP:20260422T041908
CREATED:20220428T080324Z
LAST-MODIFIED:20220428T080324Z
UID:40144-1610563800-1610567400@gckib.iwanowice.pl
SUMMARY:Zumba Fitness
DESCRIPTION:Połączenie tańców latynoamerykańskich z fitnessem. Rytmy salsy\, cumbii\, reggaetonu\, morengue\, cha-chy i innych. Zumba Fitness poprawia sylwetkę i pozwala na zrzucenie wagi w przyjemny sposób. \nZajęcia odbywają się w środy od godziny 18:50 do 19:50.
URL:https://gckib.iwanowice.pl/wydarzenie/zumba-fitness-2-2021-01-13/
LOCATION:SP/ Orlik w Iwanowicach
CATEGORIES:Zumba
ATTACH;FMTTYPE=image/png:https://gckib.iwanowice.pl/wp-content/uploads/2021/06/UWAGA-Nowe-deklaracje-i-nowa-oplata-Zumba-dla-doroslych-od-1-stycznia-2022.png
END:VEVENT
BEGIN:VEVENT
DTSTART;TZID=Europe/Warsaw:20210114T185000
DTEND;TZID=Europe/Warsaw:20210114T195000
DTSTAMP:20260422T041908
CREATED:20220428T080324Z
LAST-MODIFIED:20220428T080324Z
UID:40042-1610650200-1610653800@gckib.iwanowice.pl
SUMMARY:Zumba Fitness
DESCRIPTION:Połączenie tańców latynoamerykańskich z fitnessem. Rytmy salsy\, cumbii\, reggaetonu\, morengue\, cha-chy i innych. Zumba Fitness poprawia sylwetkę i pozwala na zrzucenie wagi w przyjemny sposób. \nZajęcia odbywają się w środy od godziny 18:50 do 19:50.
URL:https://gckib.iwanowice.pl/wydarzenie/zumba-fitness-2-2021-01-14/
LOCATION:SP/ Orlik w Iwanowicach
CATEGORIES:Zumba
ATTACH;FMTTYPE=image/png:https://gckib.iwanowice.pl/wp-content/uploads/2021/06/UWAGA-Nowe-deklaracje-i-nowa-oplata-Zumba-dla-doroslych-od-1-stycznia-2022.png
END:VEVENT
BEGIN:VEVENT
DTSTART;TZID=Europe/Warsaw:20210120T170000
DTEND;TZID=Europe/Warsaw:20210120T174500
DTSTAMP:20260422T041908
CREATED:20220428T075329Z
LAST-MODIFIED:20220428T075329Z
UID:39867-1611162000-1611164700@gckib.iwanowice.pl
SUMMARY:Zumba kids
DESCRIPTION:Zumba dla dzieci. Choreografie łatwe do powtórzenia i zapamiętania. Dzieci uczą się różnych tańców np. cumbia\, reggaeton\, hip-hop\, merengue\, salsa itd. Czas trwania zajęć 45 minut. Koszt 60 zł za miesiąc.
URL:https://gckib.iwanowice.pl/wydarzenie/zumba-kids-2-2021-01-20/
CATEGORIES:Zumba
ATTACH;FMTTYPE=image/png:https://gckib.iwanowice.pl/wp-content/uploads/2021/06/UWAGA-Nowe-deklaracje-i-nowa-oplata-Zumba-dla-doroslych-od-1-stycznia-2022.png
END:VEVENT
BEGIN:VEVENT
DTSTART;TZID=Europe/Warsaw:20210120T175000
DTEND;TZID=Europe/Warsaw:20210120T185000
DTSTAMP:20260422T041908
CREATED:20220428T075804Z
LAST-MODIFIED:20220428T075804Z
UID:39937-1611165000-1611168600@gckib.iwanowice.pl
SUMMARY:Zumba Gold
DESCRIPTION:Zajęcia o mniejszej intensywności i wolniejszym tempie. W ramach tego programu wykorzystywane są eleementy merengue\, salsy\, cumbii\, tańca brzucha\, flamenco\, tanga i nie tylko. \nZajęcia odbywają się w środy od godziny 17:50 do 18:50. \n  \n 
URL:https://gckib.iwanowice.pl/wydarzenie/zumba-gold-2021-01-20/
LOCATION:Gminne Centrum Kultury i Bibliotek w Iwanowicach\, Strażacka 5\, Iwanowice Włościańskie
CATEGORIES:Zumba
ATTACH;FMTTYPE=image/png:https://gckib.iwanowice.pl/wp-content/uploads/2021/06/UWAGA-Nowe-deklaracje-i-nowa-oplata-Zumba-dla-doroslych-od-1-stycznia-2022.png
END:VEVENT
BEGIN:VEVENT
DTSTART;TZID=Europe/Warsaw:20210120T185000
DTEND;TZID=Europe/Warsaw:20210120T195000
DTSTAMP:20260422T041908
CREATED:20220428T080324Z
LAST-MODIFIED:20220428T080324Z
UID:40145-1611168600-1611172200@gckib.iwanowice.pl
SUMMARY:Zumba Fitness
DESCRIPTION:Połączenie tańców latynoamerykańskich z fitnessem. Rytmy salsy\, cumbii\, reggaetonu\, morengue\, cha-chy i innych. Zumba Fitness poprawia sylwetkę i pozwala na zrzucenie wagi w przyjemny sposób. \nZajęcia odbywają się w środy od godziny 18:50 do 19:50.
URL:https://gckib.iwanowice.pl/wydarzenie/zumba-fitness-2-2021-01-20/
LOCATION:SP/ Orlik w Iwanowicach
CATEGORIES:Zumba
ATTACH;FMTTYPE=image/png:https://gckib.iwanowice.pl/wp-content/uploads/2021/06/UWAGA-Nowe-deklaracje-i-nowa-oplata-Zumba-dla-doroslych-od-1-stycznia-2022.png
END:VEVENT
BEGIN:VEVENT
DTSTART;TZID=Europe/Warsaw:20210121T185000
DTEND;TZID=Europe/Warsaw:20210121T195000
DTSTAMP:20260422T041908
CREATED:20220428T080324Z
LAST-MODIFIED:20220428T080324Z
UID:40043-1611255000-1611258600@gckib.iwanowice.pl
SUMMARY:Zumba Fitness
DESCRIPTION:Połączenie tańców latynoamerykańskich z fitnessem. Rytmy salsy\, cumbii\, reggaetonu\, morengue\, cha-chy i innych. Zumba Fitness poprawia sylwetkę i pozwala na zrzucenie wagi w przyjemny sposób. \nZajęcia odbywają się w środy od godziny 18:50 do 19:50.
URL:https://gckib.iwanowice.pl/wydarzenie/zumba-fitness-2-2021-01-21/
LOCATION:SP/ Orlik w Iwanowicach
CATEGORIES:Zumba
ATTACH;FMTTYPE=image/png:https://gckib.iwanowice.pl/wp-content/uploads/2021/06/UWAGA-Nowe-deklaracje-i-nowa-oplata-Zumba-dla-doroslych-od-1-stycznia-2022.png
END:VEVENT
BEGIN:VEVENT
DTSTART;TZID=Europe/Warsaw:20210127T170000
DTEND;TZID=Europe/Warsaw:20210127T174500
DTSTAMP:20260422T041908
CREATED:20220428T075329Z
LAST-MODIFIED:20220428T075329Z
UID:39868-1611766800-1611769500@gckib.iwanowice.pl
SUMMARY:Zumba kids
DESCRIPTION:Zumba dla dzieci. Choreografie łatwe do powtórzenia i zapamiętania. Dzieci uczą się różnych tańców np. cumbia\, reggaeton\, hip-hop\, merengue\, salsa itd. Czas trwania zajęć 45 minut. Koszt 60 zł za miesiąc.
URL:https://gckib.iwanowice.pl/wydarzenie/zumba-kids-2-2021-01-27/
CATEGORIES:Zumba
ATTACH;FMTTYPE=image/png:https://gckib.iwanowice.pl/wp-content/uploads/2021/06/UWAGA-Nowe-deklaracje-i-nowa-oplata-Zumba-dla-doroslych-od-1-stycznia-2022.png
END:VEVENT
BEGIN:VEVENT
DTSTART;TZID=Europe/Warsaw:20210127T175000
DTEND;TZID=Europe/Warsaw:20210127T185000
DTSTAMP:20260422T041908
CREATED:20220428T075804Z
LAST-MODIFIED:20220428T075804Z
UID:39938-1611769800-1611773400@gckib.iwanowice.pl
SUMMARY:Zumba Gold
DESCRIPTION:Zajęcia o mniejszej intensywności i wolniejszym tempie. W ramach tego programu wykorzystywane są eleementy merengue\, salsy\, cumbii\, tańca brzucha\, flamenco\, tanga i nie tylko. \nZajęcia odbywają się w środy od godziny 17:50 do 18:50. \n  \n 
URL:https://gckib.iwanowice.pl/wydarzenie/zumba-gold-2021-01-27/
LOCATION:Gminne Centrum Kultury i Bibliotek w Iwanowicach\, Strażacka 5\, Iwanowice Włościańskie
CATEGORIES:Zumba
ATTACH;FMTTYPE=image/png:https://gckib.iwanowice.pl/wp-content/uploads/2021/06/UWAGA-Nowe-deklaracje-i-nowa-oplata-Zumba-dla-doroslych-od-1-stycznia-2022.png
END:VEVENT
BEGIN:VEVENT
DTSTART;TZID=Europe/Warsaw:20210127T185000
DTEND;TZID=Europe/Warsaw:20210127T195000
DTSTAMP:20260422T041908
CREATED:20220428T080324Z
LAST-MODIFIED:20220428T080324Z
UID:40146-1611773400-1611777000@gckib.iwanowice.pl
SUMMARY:Zumba Fitness
DESCRIPTION:Połączenie tańców latynoamerykańskich z fitnessem. Rytmy salsy\, cumbii\, reggaetonu\, morengue\, cha-chy i innych. Zumba Fitness poprawia sylwetkę i pozwala na zrzucenie wagi w przyjemny sposób. \nZajęcia odbywają się w środy od godziny 18:50 do 19:50.
URL:https://gckib.iwanowice.pl/wydarzenie/zumba-fitness-2-2021-01-27/
LOCATION:SP/ Orlik w Iwanowicach
CATEGORIES:Zumba
ATTACH;FMTTYPE=image/png:https://gckib.iwanowice.pl/wp-content/uploads/2021/06/UWAGA-Nowe-deklaracje-i-nowa-oplata-Zumba-dla-doroslych-od-1-stycznia-2022.png
END:VEVENT
BEGIN:VEVENT
DTSTART;TZID=Europe/Warsaw:20210128T185000
DTEND;TZID=Europe/Warsaw:20210128T195000
DTSTAMP:20260422T041908
CREATED:20220428T080324Z
LAST-MODIFIED:20220428T080324Z
UID:40044-1611859800-1611863400@gckib.iwanowice.pl
SUMMARY:Zumba Fitness
DESCRIPTION:Połączenie tańców latynoamerykańskich z fitnessem. Rytmy salsy\, cumbii\, reggaetonu\, morengue\, cha-chy i innych. Zumba Fitness poprawia sylwetkę i pozwala na zrzucenie wagi w przyjemny sposób. \nZajęcia odbywają się w środy od godziny 18:50 do 19:50.
URL:https://gckib.iwanowice.pl/wydarzenie/zumba-fitness-2-2021-01-28/
LOCATION:SP/ Orlik w Iwanowicach
CATEGORIES:Zumba
ATTACH;FMTTYPE=image/png:https://gckib.iwanowice.pl/wp-content/uploads/2021/06/UWAGA-Nowe-deklaracje-i-nowa-oplata-Zumba-dla-doroslych-od-1-stycznia-2022.png
END:VEVENT
BEGIN:VEVENT
DTSTART;TZID=Europe/Warsaw:20210203T170000
DTEND;TZID=Europe/Warsaw:20210203T174500
DTSTAMP:20260422T041908
CREATED:20220428T075329Z
LAST-MODIFIED:20220428T075329Z
UID:39869-1612371600-1612374300@gckib.iwanowice.pl
SUMMARY:Zumba kids
DESCRIPTION:Zumba dla dzieci. Choreografie łatwe do powtórzenia i zapamiętania. Dzieci uczą się różnych tańców np. cumbia\, reggaeton\, hip-hop\, merengue\, salsa itd. Czas trwania zajęć 45 minut. Koszt 60 zł za miesiąc.
URL:https://gckib.iwanowice.pl/wydarzenie/zumba-kids-2-2021-02-03/
CATEGORIES:Zumba
ATTACH;FMTTYPE=image/png:https://gckib.iwanowice.pl/wp-content/uploads/2021/06/UWAGA-Nowe-deklaracje-i-nowa-oplata-Zumba-dla-doroslych-od-1-stycznia-2022.png
END:VEVENT
BEGIN:VEVENT
DTSTART;TZID=Europe/Warsaw:20210203T175000
DTEND;TZID=Europe/Warsaw:20210203T185000
DTSTAMP:20260422T041908
CREATED:20220428T075804Z
LAST-MODIFIED:20220428T075804Z
UID:39939-1612374600-1612378200@gckib.iwanowice.pl
SUMMARY:Zumba Gold
DESCRIPTION:Zajęcia o mniejszej intensywności i wolniejszym tempie. W ramach tego programu wykorzystywane są eleementy merengue\, salsy\, cumbii\, tańca brzucha\, flamenco\, tanga i nie tylko. \nZajęcia odbywają się w środy od godziny 17:50 do 18:50. \n  \n 
URL:https://gckib.iwanowice.pl/wydarzenie/zumba-gold-2021-02-03/
LOCATION:Gminne Centrum Kultury i Bibliotek w Iwanowicach\, Strażacka 5\, Iwanowice Włościańskie
CATEGORIES:Zumba
ATTACH;FMTTYPE=image/png:https://gckib.iwanowice.pl/wp-content/uploads/2021/06/UWAGA-Nowe-deklaracje-i-nowa-oplata-Zumba-dla-doroslych-od-1-stycznia-2022.png
END:VEVENT
BEGIN:VEVENT
DTSTART;TZID=Europe/Warsaw:20210203T185000
DTEND;TZID=Europe/Warsaw:20210203T195000
DTSTAMP:20260422T041908
CREATED:20220428T080324Z
LAST-MODIFIED:20220428T080324Z
UID:40147-1612378200-1612381800@gckib.iwanowice.pl
SUMMARY:Zumba Fitness
DESCRIPTION:Połączenie tańców latynoamerykańskich z fitnessem. Rytmy salsy\, cumbii\, reggaetonu\, morengue\, cha-chy i innych. Zumba Fitness poprawia sylwetkę i pozwala na zrzucenie wagi w przyjemny sposób. \nZajęcia odbywają się w środy od godziny 18:50 do 19:50.
URL:https://gckib.iwanowice.pl/wydarzenie/zumba-fitness-2-2021-02-03/
LOCATION:SP/ Orlik w Iwanowicach
CATEGORIES:Zumba
ATTACH;FMTTYPE=image/png:https://gckib.iwanowice.pl/wp-content/uploads/2021/06/UWAGA-Nowe-deklaracje-i-nowa-oplata-Zumba-dla-doroslych-od-1-stycznia-2022.png
END:VEVENT
BEGIN:VEVENT
DTSTART;TZID=Europe/Warsaw:20210204T185000
DTEND;TZID=Europe/Warsaw:20210204T195000
DTSTAMP:20260422T041908
CREATED:20220428T080324Z
LAST-MODIFIED:20220428T080324Z
UID:40045-1612464600-1612468200@gckib.iwanowice.pl
SUMMARY:Zumba Fitness
DESCRIPTION:Połączenie tańców latynoamerykańskich z fitnessem. Rytmy salsy\, cumbii\, reggaetonu\, morengue\, cha-chy i innych. Zumba Fitness poprawia sylwetkę i pozwala na zrzucenie wagi w przyjemny sposób. \nZajęcia odbywają się w środy od godziny 18:50 do 19:50.
URL:https://gckib.iwanowice.pl/wydarzenie/zumba-fitness-2-2021-02-04/
LOCATION:SP/ Orlik w Iwanowicach
CATEGORIES:Zumba
ATTACH;FMTTYPE=image/png:https://gckib.iwanowice.pl/wp-content/uploads/2021/06/UWAGA-Nowe-deklaracje-i-nowa-oplata-Zumba-dla-doroslych-od-1-stycznia-2022.png
END:VEVENT
BEGIN:VEVENT
DTSTART;TZID=Europe/Warsaw:20210210T170000
DTEND;TZID=Europe/Warsaw:20210210T174500
DTSTAMP:20260422T041908
CREATED:20220428T075329Z
LAST-MODIFIED:20220428T075329Z
UID:39870-1612976400-1612979100@gckib.iwanowice.pl
SUMMARY:Zumba kids
DESCRIPTION:Zumba dla dzieci. Choreografie łatwe do powtórzenia i zapamiętania. Dzieci uczą się różnych tańców np. cumbia\, reggaeton\, hip-hop\, merengue\, salsa itd. Czas trwania zajęć 45 minut. Koszt 60 zł za miesiąc.
URL:https://gckib.iwanowice.pl/wydarzenie/zumba-kids-2-2021-02-10/
CATEGORIES:Zumba
ATTACH;FMTTYPE=image/png:https://gckib.iwanowice.pl/wp-content/uploads/2021/06/UWAGA-Nowe-deklaracje-i-nowa-oplata-Zumba-dla-doroslych-od-1-stycznia-2022.png
END:VEVENT
BEGIN:VEVENT
DTSTART;TZID=Europe/Warsaw:20210210T175000
DTEND;TZID=Europe/Warsaw:20210210T185000
DTSTAMP:20260422T041908
CREATED:20220428T075804Z
LAST-MODIFIED:20220428T075804Z
UID:39940-1612979400-1612983000@gckib.iwanowice.pl
SUMMARY:Zumba Gold
DESCRIPTION:Zajęcia o mniejszej intensywności i wolniejszym tempie. W ramach tego programu wykorzystywane są eleementy merengue\, salsy\, cumbii\, tańca brzucha\, flamenco\, tanga i nie tylko. \nZajęcia odbywają się w środy od godziny 17:50 do 18:50. \n  \n 
URL:https://gckib.iwanowice.pl/wydarzenie/zumba-gold-2021-02-10/
LOCATION:Gminne Centrum Kultury i Bibliotek w Iwanowicach\, Strażacka 5\, Iwanowice Włościańskie
CATEGORIES:Zumba
ATTACH;FMTTYPE=image/png:https://gckib.iwanowice.pl/wp-content/uploads/2021/06/UWAGA-Nowe-deklaracje-i-nowa-oplata-Zumba-dla-doroslych-od-1-stycznia-2022.png
END:VEVENT
BEGIN:VEVENT
DTSTART;TZID=Europe/Warsaw:20210210T185000
DTEND;TZID=Europe/Warsaw:20210210T195000
DTSTAMP:20260422T041908
CREATED:20220428T080324Z
LAST-MODIFIED:20220428T080324Z
UID:40148-1612983000-1612986600@gckib.iwanowice.pl
SUMMARY:Zumba Fitness
DESCRIPTION:Połączenie tańców latynoamerykańskich z fitnessem. Rytmy salsy\, cumbii\, reggaetonu\, morengue\, cha-chy i innych. Zumba Fitness poprawia sylwetkę i pozwala na zrzucenie wagi w przyjemny sposób. \nZajęcia odbywają się w środy od godziny 18:50 do 19:50.
URL:https://gckib.iwanowice.pl/wydarzenie/zumba-fitness-2-2021-02-10/
LOCATION:SP/ Orlik w Iwanowicach
CATEGORIES:Zumba
ATTACH;FMTTYPE=image/png:https://gckib.iwanowice.pl/wp-content/uploads/2021/06/UWAGA-Nowe-deklaracje-i-nowa-oplata-Zumba-dla-doroslych-od-1-stycznia-2022.png
END:VEVENT
BEGIN:VEVENT
DTSTART;TZID=Europe/Warsaw:20210211T185000
DTEND;TZID=Europe/Warsaw:20210211T195000
DTSTAMP:20260422T041908
CREATED:20220428T080324Z
LAST-MODIFIED:20220428T080324Z
UID:40046-1613069400-1613073000@gckib.iwanowice.pl
SUMMARY:Zumba Fitness
DESCRIPTION:Połączenie tańców latynoamerykańskich z fitnessem. Rytmy salsy\, cumbii\, reggaetonu\, morengue\, cha-chy i innych. Zumba Fitness poprawia sylwetkę i pozwala na zrzucenie wagi w przyjemny sposób. \nZajęcia odbywają się w środy od godziny 18:50 do 19:50.
URL:https://gckib.iwanowice.pl/wydarzenie/zumba-fitness-2-2021-02-11/
LOCATION:SP/ Orlik w Iwanowicach
CATEGORIES:Zumba
ATTACH;FMTTYPE=image/png:https://gckib.iwanowice.pl/wp-content/uploads/2021/06/UWAGA-Nowe-deklaracje-i-nowa-oplata-Zumba-dla-doroslych-od-1-stycznia-2022.png
END:VEVENT
BEGIN:VEVENT
DTSTART;TZID=Europe/Warsaw:20210217T170000
DTEND;TZID=Europe/Warsaw:20210217T174500
DTSTAMP:20260422T041908
CREATED:20220428T075329Z
LAST-MODIFIED:20220428T075329Z
UID:39871-1613581200-1613583900@gckib.iwanowice.pl
SUMMARY:Zumba kids
DESCRIPTION:Zumba dla dzieci. Choreografie łatwe do powtórzenia i zapamiętania. Dzieci uczą się różnych tańców np. cumbia\, reggaeton\, hip-hop\, merengue\, salsa itd. Czas trwania zajęć 45 minut. Koszt 60 zł za miesiąc.
URL:https://gckib.iwanowice.pl/wydarzenie/zumba-kids-2-2021-02-17/
CATEGORIES:Zumba
ATTACH;FMTTYPE=image/png:https://gckib.iwanowice.pl/wp-content/uploads/2021/06/UWAGA-Nowe-deklaracje-i-nowa-oplata-Zumba-dla-doroslych-od-1-stycznia-2022.png
END:VEVENT
BEGIN:VEVENT
DTSTART;TZID=Europe/Warsaw:20210217T175000
DTEND;TZID=Europe/Warsaw:20210217T185000
DTSTAMP:20260422T041908
CREATED:20220428T075804Z
LAST-MODIFIED:20220428T075804Z
UID:39941-1613584200-1613587800@gckib.iwanowice.pl
SUMMARY:Zumba Gold
DESCRIPTION:Zajęcia o mniejszej intensywności i wolniejszym tempie. W ramach tego programu wykorzystywane są eleementy merengue\, salsy\, cumbii\, tańca brzucha\, flamenco\, tanga i nie tylko. \nZajęcia odbywają się w środy od godziny 17:50 do 18:50. \n  \n 
URL:https://gckib.iwanowice.pl/wydarzenie/zumba-gold-2021-02-17/
LOCATION:Gminne Centrum Kultury i Bibliotek w Iwanowicach\, Strażacka 5\, Iwanowice Włościańskie
CATEGORIES:Zumba
ATTACH;FMTTYPE=image/png:https://gckib.iwanowice.pl/wp-content/uploads/2021/06/UWAGA-Nowe-deklaracje-i-nowa-oplata-Zumba-dla-doroslych-od-1-stycznia-2022.png
END:VEVENT
BEGIN:VEVENT
DTSTART;TZID=Europe/Warsaw:20210217T185000
DTEND;TZID=Europe/Warsaw:20210217T195000
DTSTAMP:20260422T041908
CREATED:20220428T080324Z
LAST-MODIFIED:20220428T080324Z
UID:40149-1613587800-1613591400@gckib.iwanowice.pl
SUMMARY:Zumba Fitness
DESCRIPTION:Połączenie tańców latynoamerykańskich z fitnessem. Rytmy salsy\, cumbii\, reggaetonu\, morengue\, cha-chy i innych. Zumba Fitness poprawia sylwetkę i pozwala na zrzucenie wagi w przyjemny sposób. \nZajęcia odbywają się w środy od godziny 18:50 do 19:50.
URL:https://gckib.iwanowice.pl/wydarzenie/zumba-fitness-2-2021-02-17/
LOCATION:SP/ Orlik w Iwanowicach
CATEGORIES:Zumba
ATTACH;FMTTYPE=image/png:https://gckib.iwanowice.pl/wp-content/uploads/2021/06/UWAGA-Nowe-deklaracje-i-nowa-oplata-Zumba-dla-doroslych-od-1-stycznia-2022.png
END:VEVENT
BEGIN:VEVENT
DTSTART;TZID=Europe/Warsaw:20210218T185000
DTEND;TZID=Europe/Warsaw:20210218T195000
DTSTAMP:20260422T041908
CREATED:20220428T080324Z
LAST-MODIFIED:20220428T080324Z
UID:40047-1613674200-1613677800@gckib.iwanowice.pl
SUMMARY:Zumba Fitness
DESCRIPTION:Połączenie tańców latynoamerykańskich z fitnessem. Rytmy salsy\, cumbii\, reggaetonu\, morengue\, cha-chy i innych. Zumba Fitness poprawia sylwetkę i pozwala na zrzucenie wagi w przyjemny sposób. \nZajęcia odbywają się w środy od godziny 18:50 do 19:50.
URL:https://gckib.iwanowice.pl/wydarzenie/zumba-fitness-2-2021-02-18/
LOCATION:SP/ Orlik w Iwanowicach
CATEGORIES:Zumba
ATTACH;FMTTYPE=image/png:https://gckib.iwanowice.pl/wp-content/uploads/2021/06/UWAGA-Nowe-deklaracje-i-nowa-oplata-Zumba-dla-doroslych-od-1-stycznia-2022.png
END:VEVENT
BEGIN:VEVENT
DTSTART;TZID=Europe/Warsaw:20210224T170000
DTEND;TZID=Europe/Warsaw:20210224T174500
DTSTAMP:20260422T041908
CREATED:20220428T075329Z
LAST-MODIFIED:20220428T075329Z
UID:39872-1614186000-1614188700@gckib.iwanowice.pl
SUMMARY:Zumba kids
DESCRIPTION:Zumba dla dzieci. Choreografie łatwe do powtórzenia i zapamiętania. Dzieci uczą się różnych tańców np. cumbia\, reggaeton\, hip-hop\, merengue\, salsa itd. Czas trwania zajęć 45 minut. Koszt 60 zł za miesiąc.
URL:https://gckib.iwanowice.pl/wydarzenie/zumba-kids-2-2021-02-24/
CATEGORIES:Zumba
ATTACH;FMTTYPE=image/png:https://gckib.iwanowice.pl/wp-content/uploads/2021/06/UWAGA-Nowe-deklaracje-i-nowa-oplata-Zumba-dla-doroslych-od-1-stycznia-2022.png
END:VEVENT
BEGIN:VEVENT
DTSTART;TZID=Europe/Warsaw:20210224T175000
DTEND;TZID=Europe/Warsaw:20210224T185000
DTSTAMP:20260422T041908
CREATED:20220428T075804Z
LAST-MODIFIED:20220428T075804Z
UID:39942-1614189000-1614192600@gckib.iwanowice.pl
SUMMARY:Zumba Gold
DESCRIPTION:Zajęcia o mniejszej intensywności i wolniejszym tempie. W ramach tego programu wykorzystywane są eleementy merengue\, salsy\, cumbii\, tańca brzucha\, flamenco\, tanga i nie tylko. \nZajęcia odbywają się w środy od godziny 17:50 do 18:50. \n  \n 
URL:https://gckib.iwanowice.pl/wydarzenie/zumba-gold-2021-02-24/
LOCATION:Gminne Centrum Kultury i Bibliotek w Iwanowicach\, Strażacka 5\, Iwanowice Włościańskie
CATEGORIES:Zumba
ATTACH;FMTTYPE=image/png:https://gckib.iwanowice.pl/wp-content/uploads/2021/06/UWAGA-Nowe-deklaracje-i-nowa-oplata-Zumba-dla-doroslych-od-1-stycznia-2022.png
END:VEVENT
END:VCALENDAR