BEGIN:VCALENDAR
VERSION:2.0
PRODID:-//GCKiB - ECPv6.15.20//NONSGML v1.0//EN
CALSCALE:GREGORIAN
METHOD:PUBLISH
X-WR-CALNAME:GCKiB
X-ORIGINAL-URL:https://gckib.iwanowice.pl
X-WR-CALDESC:Wydarzenia dla GCKiB
REFRESH-INTERVAL;VALUE=DURATION:PT1H
X-Robots-Tag:noindex
X-PUBLISHED-TTL:PT1H
BEGIN:VTIMEZONE
TZID:Europe/Warsaw
BEGIN:DAYLIGHT
TZOFFSETFROM:+0100
TZOFFSETTO:+0200
TZNAME:CEST
DTSTART:20190331T010000
END:DAYLIGHT
BEGIN:STANDARD
TZOFFSETFROM:+0200
TZOFFSETTO:+0100
TZNAME:CET
DTSTART:20191027T010000
END:STANDARD
BEGIN:DAYLIGHT
TZOFFSETFROM:+0100
TZOFFSETTO:+0200
TZNAME:CEST
DTSTART:20200329T010000
END:DAYLIGHT
BEGIN:STANDARD
TZOFFSETFROM:+0200
TZOFFSETTO:+0100
TZNAME:CET
DTSTART:20201025T010000
END:STANDARD
BEGIN:DAYLIGHT
TZOFFSETFROM:+0100
TZOFFSETTO:+0200
TZNAME:CEST
DTSTART:20210328T010000
END:DAYLIGHT
BEGIN:STANDARD
TZOFFSETFROM:+0200
TZOFFSETTO:+0100
TZNAME:CET
DTSTART:20211031T010000
END:STANDARD
END:VTIMEZONE
BEGIN:VEVENT
DTSTART;VALUE=DATE:20200505
DTEND;VALUE=DATE:20200506
DTSTAMP:20260422T165035
CREATED:20200212T112514Z
LAST-MODIFIED:20200421T133213Z
UID:30042-1588636800-1588723199@gckib.iwanowice.pl
SUMMARY:Powiatowy Konkurs Języka Angielskiego dla klas III "Best in English"
DESCRIPTION:Wydarzenie odwołane
URL:https://gckib.iwanowice.pl/wydarzenie/powiatowy-konkurs-jezyka-angielskiego-dla-klas-iii-best-in-english-2/
LOCATION:Celiny
END:VEVENT
BEGIN:VEVENT
DTSTART;VALUE=DATE:20200506
DTEND;VALUE=DATE:20200507
DTSTAMP:20260422T165035
CREATED:20200212T112251Z
LAST-MODIFIED:20200421T133207Z
UID:30039-1588723200-1588809599@gckib.iwanowice.pl
SUMMARY:Gminny Konkurs Ortograficzny "Mistrz Ortografii"
DESCRIPTION:Wydarzenie odwołane
URL:https://gckib.iwanowice.pl/wydarzenie/gminny-konkurs-ortograficzny-mistrz-ortografii/
LOCATION:SP Celiny
END:VEVENT
BEGIN:VEVENT
DTSTART;TZID=Europe/Warsaw:20200507T191500
DTEND;TZID=Europe/Warsaw:20200507T201500
DTSTAMP:20260422T165035
CREATED:20200506T071309Z
LAST-MODIFIED:20200506T071337Z
UID:30805-1588878900-1588882500@gckib.iwanowice.pl
SUMMARY:Fitness online
DESCRIPTION:Zajęcia fitness online odbywają się w poniedziałki (godz. 20:15) oraz czwartki (godzi. 19:15). Więcej informacji udziela p. Marta Stępień-Nalewajko (instruktor) oraz Gminne Centrum Kultury i Bibliotek w Iwanowicach.
URL:https://gckib.iwanowice.pl/wydarzenie/fitness-online-2/
END:VEVENT
BEGIN:VEVENT
DTSTART;TZID=Europe/Warsaw:20200509T090000
DTEND;TZID=Europe/Warsaw:20200509T140000
DTSTAMP:20260422T165035
CREATED:20200115T080223Z
LAST-MODIFIED:20200421T133200Z
UID:29278-1589014800-1589032800@gckib.iwanowice.pl
SUMMARY:Uniwersytet Dziecięcy - Tajemnice wirującego bączka
DESCRIPTION:Wydarzenie odwołane \n  \n 
URL:https://gckib.iwanowice.pl/wydarzenie/uniwersytet-dzieciecy-tajemnice-wirujacego-baczka/
ATTACH;FMTTYPE=image/jpeg:https://gckib.iwanowice.pl/wp-content/uploads/2020/01/00015-1.jpg
END:VEVENT
BEGIN:VEVENT
DTSTART;TZID=Europe/Warsaw:20200511T201500
DTEND;TZID=Europe/Warsaw:20200511T210000
DTSTAMP:20260422T165035
CREATED:20200421T135829Z
LAST-MODIFIED:20200828T121342Z
UID:30667-1589228100-1589230800@gckib.iwanowice.pl
SUMMARY:Fitness online
DESCRIPTION:Zajęcia fitness online odbywają się w poniedziałki (godz. 20:15) oraz czwartki (godzi. 19:15). Więcej informacji udziela p. Marta Stępień-Nalewajko (instruktor) oraz Gminne Centrum Kultury i Bibliotek w Iwanowicach.
URL:https://gckib.iwanowice.pl/wydarzenie/fitness-online-2020-05-11/
END:VEVENT
BEGIN:VEVENT
DTSTART;VALUE=DATE:20200516
DTEND;VALUE=DATE:20200517
DTSTAMP:20260422T165035
CREATED:20200212T112615Z
LAST-MODIFIED:20200421T121541Z
UID:30044-1589587200-1589673599@gckib.iwanowice.pl
SUMMARY:Gminny Dzień Seniora
DESCRIPTION:Wydarzenie odwołane
URL:https://gckib.iwanowice.pl/wydarzenie/gminny-dzien-seniora/
LOCATION:Klub Seniora w Damicach
END:VEVENT
BEGIN:VEVENT
DTSTART;VALUE=DATE:20200517
DTEND;VALUE=DATE:20200518
DTSTAMP:20260422T165035
CREATED:20200212T113034Z
LAST-MODIFIED:20200421T133148Z
UID:30047-1589673600-1589759999@gckib.iwanowice.pl
SUMMARY:Festyn Rodzinny "Z ojcem świętym przez świat"
DESCRIPTION:Wydarzenie odwołane
URL:https://gckib.iwanowice.pl/wydarzenie/festyn-rodzinny-z-ojcem-swietym-przez-swiat/
END:VEVENT
BEGIN:VEVENT
DTSTART;VALUE=DATE:20200531
DTEND;VALUE=DATE:20200601
DTSTAMP:20260422T165035
CREATED:20200212T113115Z
LAST-MODIFIED:20200421T120845Z
UID:30049-1590883200-1590969599@gckib.iwanowice.pl
SUMMARY:Festyn "Niedziela z Rodziną" w Sieciechowicach
DESCRIPTION:Wydarzenie odwołane
URL:https://gckib.iwanowice.pl/wydarzenie/festyn-niedziela-z-rodzina-w-sieciechowicach/
END:VEVENT
BEGIN:VEVENT
DTSTART;TZID=Europe/Warsaw:20200615T201500
DTEND;TZID=Europe/Warsaw:20200615T210000
DTSTAMP:20260422T165035
CREATED:20200421T135829Z
LAST-MODIFIED:20200421T135829Z
UID:30785-1592252100-1592254800@gckib.iwanowice.pl
SUMMARY:Fitness online
DESCRIPTION:Zajęcia fitness online odbywają się w poniedziałki (godz. 20:15) oraz czwartki (godzi. 19:15). Więcej informacji udziela p. Marta Stępień-Nalewajko (instruktor) oraz Gminne Centrum Kultury i Bibliotek w Iwanowicach.
URL:https://gckib.iwanowice.pl/wydarzenie/fitness-online-2020-06-15/
END:VEVENT
BEGIN:VEVENT
DTSTART;TZID=Europe/Warsaw:20200618T191500
DTEND;TZID=Europe/Warsaw:20200618T201500
DTSTAMP:20260422T165035
CREATED:20200506T071309Z
LAST-MODIFIED:20200506T071309Z
UID:30819-1592507700-1592511300@gckib.iwanowice.pl
SUMMARY:Fitness online
DESCRIPTION:Zajęcia fitness online odbywają się w poniedziałki (godz. 20:15) oraz czwartki (godzi. 19:15). Więcej informacji udziela p. Marta Stępień-Nalewajko (instruktor) oraz Gminne Centrum Kultury i Bibliotek w Iwanowicach.
URL:https://gckib.iwanowice.pl/wydarzenie/fitness-online-2-2020-06-18/
END:VEVENT
BEGIN:VEVENT
DTSTART;TZID=Europe/Warsaw:20200622T201500
DTEND;TZID=Europe/Warsaw:20200622T210000
DTSTAMP:20260422T165035
CREATED:20200421T135829Z
LAST-MODIFIED:20200421T135829Z
UID:30786-1592856900-1592859600@gckib.iwanowice.pl
SUMMARY:Fitness online
DESCRIPTION:Zajęcia fitness online odbywają się w poniedziałki (godz. 20:15) oraz czwartki (godzi. 19:15). Więcej informacji udziela p. Marta Stępień-Nalewajko (instruktor) oraz Gminne Centrum Kultury i Bibliotek w Iwanowicach.
URL:https://gckib.iwanowice.pl/wydarzenie/fitness-online-2020-06-22/
END:VEVENT
BEGIN:VEVENT
DTSTART;TZID=Europe/Warsaw:20200625T191500
DTEND;TZID=Europe/Warsaw:20200625T201500
DTSTAMP:20260422T165035
CREATED:20200506T071309Z
LAST-MODIFIED:20200506T071309Z
UID:30820-1593112500-1593116100@gckib.iwanowice.pl
SUMMARY:Fitness online
DESCRIPTION:Zajęcia fitness online odbywają się w poniedziałki (godz. 20:15) oraz czwartki (godzi. 19:15). Więcej informacji udziela p. Marta Stępień-Nalewajko (instruktor) oraz Gminne Centrum Kultury i Bibliotek w Iwanowicach.
URL:https://gckib.iwanowice.pl/wydarzenie/fitness-online-2-2020-06-25/
END:VEVENT
BEGIN:VEVENT
DTSTART;TZID=Europe/Warsaw:20200629T201500
DTEND;TZID=Europe/Warsaw:20200629T210000
DTSTAMP:20260422T165035
CREATED:20200421T135829Z
LAST-MODIFIED:20200421T135829Z
UID:30787-1593461700-1593464400@gckib.iwanowice.pl
SUMMARY:Fitness online
DESCRIPTION:Zajęcia fitness online odbywają się w poniedziałki (godz. 20:15) oraz czwartki (godzi. 19:15). Więcej informacji udziela p. Marta Stępień-Nalewajko (instruktor) oraz Gminne Centrum Kultury i Bibliotek w Iwanowicach.
URL:https://gckib.iwanowice.pl/wydarzenie/fitness-online-2020-06-29/
END:VEVENT
BEGIN:VEVENT
DTSTART;TZID=Europe/Warsaw:20200710T180000
DTEND;TZID=Europe/Warsaw:20200710T190000
DTSTAMP:20260422T165035
CREATED:20200813T063147Z
LAST-MODIFIED:20200813T063147Z
UID:31361-1594404000-1594407600@gckib.iwanowice.pl
SUMMARY:Warsztaty plastyczne - kolorowe gniotki
DESCRIPTION:
URL:https://gckib.iwanowice.pl/wydarzenie/warsztaty-plastyczne-kolorowe-gniotki/
LOCATION:Ogród GCKiB
END:VEVENT
BEGIN:VEVENT
DTSTART;TZID=Europe/Warsaw:20200710T190000
DTEND;TZID=Europe/Warsaw:20200710T210000
DTSTAMP:20260422T165035
CREATED:20200813T063243Z
LAST-MODIFIED:20200813T063243Z
UID:31364-1594407600-1594414800@gckib.iwanowice.pl
SUMMARY:Kino plenerowe dla dzieci - film "Naprzód"
DESCRIPTION:
URL:https://gckib.iwanowice.pl/wydarzenie/kino-plenerowe-dla-dzieci-film-naprzod/
LOCATION:Ogród GCKiB
END:VEVENT
BEGIN:VEVENT
DTSTART;TZID=Europe/Warsaw:20200716T160000
DTEND;TZID=Europe/Warsaw:20200716T170000
DTSTAMP:20260422T165035
CREATED:20200813T063455Z
LAST-MODIFIED:20200813T063455Z
UID:31366-1594915200-1594918800@gckib.iwanowice.pl
SUMMARY:Warsztaty plastyczne - breloki z koralików
DESCRIPTION:
URL:https://gckib.iwanowice.pl/wydarzenie/warsztaty-plastyczne-breloki-z-koralikow/
LOCATION:Ogród GCKiB
END:VEVENT
BEGIN:VEVENT
DTSTART;TZID=Europe/Warsaw:20200717T200000
DTEND;TZID=Europe/Warsaw:20200717T220000
DTSTAMP:20260422T165035
CREATED:20200813T063548Z
LAST-MODIFIED:20200813T063548Z
UID:31368-1595016000-1595023200@gckib.iwanowice.pl
SUMMARY:Kino plenerowe dla dorosłych - film Mayday"
DESCRIPTION:
URL:https://gckib.iwanowice.pl/wydarzenie/kino-plenerowe-dla-doroslych-film-mayday/
LOCATION:Ogród GCKiB
END:VEVENT
BEGIN:VEVENT
DTSTART;TZID=Europe/Warsaw:20200724T190000
DTEND;TZID=Europe/Warsaw:20200724T210000
DTSTAMP:20260422T165035
CREATED:20200813T063703Z
LAST-MODIFIED:20200813T065733Z
UID:31370-1595617200-1595624400@gckib.iwanowice.pl
SUMMARY:Warsztaty plastyczne - zwierzątka z papierowych talerzyków
DESCRIPTION:
URL:https://gckib.iwanowice.pl/wydarzenie/warsztaty-plastyczne-zwierzatka-z-papierowych-talerzykow/
LOCATION:Ogród GCKiB
END:VEVENT
BEGIN:VEVENT
DTSTART;TZID=Europe/Warsaw:20200724T190000
DTEND;TZID=Europe/Warsaw:20200724T210000
DTSTAMP:20260422T165035
CREATED:20200813T063818Z
LAST-MODIFIED:20200813T063818Z
UID:31372-1595617200-1595624400@gckib.iwanowice.pl
SUMMARY:Kino plenerowe dla dzieci - film "Kraina lodu II"
DESCRIPTION:
URL:https://gckib.iwanowice.pl/wydarzenie/kino-plenerowe-dla-dzieci-film-kraina-lodu-ii/
LOCATION:Ogród GCKiB
END:VEVENT
BEGIN:VEVENT
DTSTART;TZID=Europe/Warsaw:20200730T160000
DTEND;TZID=Europe/Warsaw:20200730T170000
DTSTAMP:20260422T165035
CREATED:20200813T064115Z
LAST-MODIFIED:20200813T064115Z
UID:31374-1596124800-1596128400@gckib.iwanowice.pl
SUMMARY:Warsztaty plastyczne - las w słoiku
DESCRIPTION:
URL:https://gckib.iwanowice.pl/wydarzenie/warsztaty-plastyczne-las-w-sloiku/
LOCATION:Ogród GCKiB
END:VEVENT
BEGIN:VEVENT
DTSTART;TZID=Europe/Warsaw:20200731T200000
DTEND;TZID=Europe/Warsaw:20200731T220000
DTSTAMP:20260422T165035
CREATED:20200813T064215Z
LAST-MODIFIED:20200813T064215Z
UID:31376-1596225600-1596232800@gckib.iwanowice.pl
SUMMARY:Kino plenerowe dla dorosłych- film "Na noże"
DESCRIPTION:
URL:https://gckib.iwanowice.pl/wydarzenie/kino-plenerowe-dla-doroslych-film-na-noze/
LOCATION:Ogród GCKiB
END:VEVENT
BEGIN:VEVENT
DTSTART;TZID=Europe/Warsaw:20200804T100000
DTEND;TZID=Europe/Warsaw:20200804T130000
DTSTAMP:20260422T165035
CREATED:20200813T064317Z
LAST-MODIFIED:20200813T064317Z
UID:31378-1596535200-1596546000@gckib.iwanowice.pl
SUMMARY:Zajęcia plastyczno-manualne
DESCRIPTION:
URL:https://gckib.iwanowice.pl/wydarzenie/zajecia-plastyczno-manualne/
LOCATION:Świetlica w Celinach
END:VEVENT
BEGIN:VEVENT
DTSTART;TZID=Europe/Warsaw:20200807T180000
DTEND;TZID=Europe/Warsaw:20200807T190000
DTSTAMP:20260422T165035
CREATED:20200813T064407Z
LAST-MODIFIED:20200813T064407Z
UID:31381-1596823200-1596826800@gckib.iwanowice.pl
SUMMARY:Warsztaty plastyczne - zakładki do książek
DESCRIPTION:
URL:https://gckib.iwanowice.pl/wydarzenie/warsztaty-plastyczne-zakladki-do-ksiazek/
LOCATION:Ogród GCKiB
END:VEVENT
BEGIN:VEVENT
DTSTART;TZID=Europe/Warsaw:20200807T190000
DTEND;TZID=Europe/Warsaw:20200807T210000
DTSTAMP:20260422T165035
CREATED:20200813T064500Z
LAST-MODIFIED:20200813T064500Z
UID:31383-1596826800-1596834000@gckib.iwanowice.pl
SUMMARY:Kino plenerowe dla dzieci - film "Asterix i Obelix - Tajemnica magicznego wywaru"
DESCRIPTION:
URL:https://gckib.iwanowice.pl/wydarzenie/kino-plenerowe-dla-dzieci-film-asterix-i-obelix-tajemnica-magicznego-wywaru/
LOCATION:Ogród GCKiB
END:VEVENT
BEGIN:VEVENT
DTSTART;TZID=Europe/Warsaw:20200813T160000
DTEND;TZID=Europe/Warsaw:20200813T170000
DTSTAMP:20260422T165035
CREATED:20200813T064730Z
LAST-MODIFIED:20200813T064730Z
UID:31387-1597334400-1597338000@gckib.iwanowice.pl
SUMMARY:Warsztaty plastyczne dla dzieci - kolorowe motyle
DESCRIPTION:
URL:https://gckib.iwanowice.pl/wydarzenie/warsztaty-plastyczne-dla-dzieci-kolorowe-motyle/
LOCATION:Ogród GCKiB
END:VEVENT
BEGIN:VEVENT
DTSTART;TZID=Europe/Warsaw:20200813T160000
DTEND;TZID=Europe/Warsaw:20200813T190000
DTSTAMP:20260422T165035
CREATED:20200813T064603Z
LAST-MODIFIED:20200813T064603Z
UID:31385-1597334400-1597345200@gckib.iwanowice.pl
SUMMARY:Wieczór filmowy - zabawa w krytyków filmowych
DESCRIPTION:
URL:https://gckib.iwanowice.pl/wydarzenie/wieczor-filmowy-zabawa-w-krytykow-filmowych/
LOCATION:Świetlica w Celinach
END:VEVENT
BEGIN:VEVENT
DTSTART;TZID=Europe/Warsaw:20200813T200000
DTEND;TZID=Europe/Warsaw:20200813T220000
DTSTAMP:20260422T165035
CREATED:20200813T064813Z
LAST-MODIFIED:20200813T064813Z
UID:31389-1597348800-1597356000@gckib.iwanowice.pl
SUMMARY:Kino plenerowe dla dorosłych - film "(Nie)znajomi"
DESCRIPTION:
URL:https://gckib.iwanowice.pl/wydarzenie/kino-plenerowe-dla-doroslych-film-nieznajomi/
LOCATION:Ogród GCKiB
END:VEVENT
BEGIN:VEVENT
DTSTART;TZID=Europe/Warsaw:20200818T100000
DTEND;TZID=Europe/Warsaw:20200818T130000
DTSTAMP:20260422T165035
CREATED:20200813T064907Z
LAST-MODIFIED:20200813T064907Z
UID:31391-1597744800-1597755600@gckib.iwanowice.pl
SUMMARY:Gry planszowe
DESCRIPTION:
URL:https://gckib.iwanowice.pl/wydarzenie/gry-planszowe/
LOCATION:Świetlica w Celinach
END:VEVENT
BEGIN:VEVENT
DTSTART;TZID=Europe/Warsaw:20200821T190000
DTEND;TZID=Europe/Warsaw:20200821T210000
DTSTAMP:20260422T165035
CREATED:20200813T065003Z
LAST-MODIFIED:20200813T065003Z
UID:31393-1598036400-1598043600@gckib.iwanowice.pl
SUMMARY:Kino plenerowe dla dzieci - film "Scooby-Doo"
DESCRIPTION:
URL:https://gckib.iwanowice.pl/wydarzenie/kino-plenerowe-dla-dzieci-film-scooby-doo/
LOCATION:Ogród GCKiB
END:VEVENT
BEGIN:VEVENT
DTSTART;TZID=Europe/Warsaw:20200827T160000
DTEND;TZID=Europe/Warsaw:20200827T190000
DTSTAMP:20260422T165035
CREATED:20200813T065042Z
LAST-MODIFIED:20200813T065042Z
UID:31395-1598544000-1598554800@gckib.iwanowice.pl
SUMMARY:Gry i zabawy dla dzieci
DESCRIPTION:
URL:https://gckib.iwanowice.pl/wydarzenie/gry-i-zabawy-dla-dzieci/
LOCATION:Ogród GCKiB
END:VEVENT
END:VCALENDAR