BEGIN:VCALENDAR
VERSION:2.0
PRODID:-//GCKiB - ECPv6.15.20//NONSGML v1.0//EN
CALSCALE:GREGORIAN
METHOD:PUBLISH
X-WR-CALNAME:GCKiB
X-ORIGINAL-URL:https://gckib.iwanowice.pl
X-WR-CALDESC:Wydarzenia dla GCKiB
REFRESH-INTERVAL;VALUE=DURATION:PT1H
X-Robots-Tag:noindex
X-PUBLISHED-TTL:PT1H
BEGIN:VTIMEZONE
TZID:Europe/Warsaw
BEGIN:DAYLIGHT
TZOFFSETFROM:+0100
TZOFFSETTO:+0200
TZNAME:CEST
DTSTART:20180325T010000
END:DAYLIGHT
BEGIN:STANDARD
TZOFFSETFROM:+0200
TZOFFSETTO:+0100
TZNAME:CET
DTSTART:20181028T010000
END:STANDARD
BEGIN:DAYLIGHT
TZOFFSETFROM:+0100
TZOFFSETTO:+0200
TZNAME:CEST
DTSTART:20190331T010000
END:DAYLIGHT
BEGIN:STANDARD
TZOFFSETFROM:+0200
TZOFFSETTO:+0100
TZNAME:CET
DTSTART:20191027T010000
END:STANDARD
BEGIN:DAYLIGHT
TZOFFSETFROM:+0100
TZOFFSETTO:+0200
TZNAME:CEST
DTSTART:20200329T010000
END:DAYLIGHT
BEGIN:STANDARD
TZOFFSETFROM:+0200
TZOFFSETTO:+0100
TZNAME:CET
DTSTART:20201025T010000
END:STANDARD
END:VTIMEZONE
BEGIN:VEVENT
DTSTART;TZID=Europe/Warsaw:20190601T080000
DTEND;TZID=Europe/Warsaw:20190601T160000
DTSTAMP:20260423T123701
CREATED:20190618T070357Z
LAST-MODIFIED:20190618T070357Z
UID:23808-1559376000-1559404800@gckib.iwanowice.pl
SUMMARY:Kultura w sieci
DESCRIPTION:Szkolenie „Kultura w sieci” realizowane w ramach projektu e-Xtra Kompetentni.
URL:https://gckib.iwanowice.pl/wydarzenie/kultura-w-sieci/
LOCATION:Szkoła Podstawowa w Iwanowicach
END:VEVENT
BEGIN:VEVENT
DTSTART;VALUE=DATE:20190602
DTEND;VALUE=DATE:20190603
DTSTAMP:20260423T123701
CREATED:20190509T110512Z
LAST-MODIFIED:20190618T073344Z
UID:23096-1559433600-1559519999@gckib.iwanowice.pl
SUMMARY:Gminny Dzień Dziecka
DESCRIPTION:
URL:https://gckib.iwanowice.pl/wydarzenie/gminny-dzien-dziecka/
ATTACH;FMTTYPE=image/jpeg:https://gckib.iwanowice.pl/wp-content/uploads/2019/05/dzien_dziecka-1000-x-1414-1.jpg
END:VEVENT
BEGIN:VEVENT
DTSTART;TZID=Europe/Warsaw:20190602T080000
DTEND;TZID=Europe/Warsaw:20190602T160000
DTSTAMP:20260423T123701
CREATED:20190618T070540Z
LAST-MODIFIED:20190618T073207Z
UID:23811-1559462400-1559491200@gckib.iwanowice.pl
SUMMARY:Kultura w sieci
DESCRIPTION:Szkolenie „Kultura w sieci” realizowane w ramach projektu e-Xtra Kompetentni.
URL:https://gckib.iwanowice.pl/wydarzenie/kultura-w-sieci-2/
LOCATION:Szkoła Podstawowa w Iwanowicach
ATTACH;FMTTYPE=image/png:https://gckib.iwanowice.pl/wp-content/uploads/2019/06/Screen-Shot-06-18-19-at-09.23-AM.png
END:VEVENT
BEGIN:VEVENT
DTSTART;TZID=Europe/Warsaw:20190603T130500
DTEND;TZID=Europe/Warsaw:20190603T140000
DTSTAMP:20260423T123701
CREATED:20190618T072012Z
LAST-MODIFIED:20190618T123844Z
UID:23813-1559567100-1559570400@gckib.iwanowice.pl
SUMMARY:Iwanowicka Akademia Futbolu (Widoma)
DESCRIPTION:Zajęcia dla grupy 0-1-2 w ramach Iwanowickiej Akademii Futbolu
URL:https://gckib.iwanowice.pl/wydarzenie/iwanowicka-akademia-futbolu-widoma/
LOCATION:Widoma
ATTACH;FMTTYPE=image/png:https://gckib.iwanowice.pl/wp-content/uploads/2019/06/iwanowicka-akademia-futbolu.png
END:VEVENT
BEGIN:VEVENT
DTSTART;TZID=Europe/Warsaw:20190603T140500
DTEND;TZID=Europe/Warsaw:20190603T150000
DTSTAMP:20260423T123701
CREATED:20190618T073903Z
LAST-MODIFIED:20190618T090312Z
UID:23823-1559570700-1559574000@gckib.iwanowice.pl
SUMMARY:Iwanowicka Akademia Futbolu (Widoma)
DESCRIPTION:Zajęcia dla grupy 3-4-5 w ramach Iwanowickiej Akademii Futbolu
URL:https://gckib.iwanowice.pl/wydarzenie/iwanowicka-akademia-futbolu-widoma-2/
LOCATION:Widoma
ATTACH;FMTTYPE=image/png:https://gckib.iwanowice.pl/wp-content/uploads/2019/06/iwanowicka-akademia-futbolu.png
END:VEVENT
BEGIN:VEVENT
DTSTART;TZID=Europe/Warsaw:20190603T153000
DTEND;TZID=Europe/Warsaw:20190603T162500
DTSTAMP:20260423T123701
CREATED:20190201T080513Z
LAST-MODIFIED:20190621T103826Z
UID:21763-1559575800-1559579100@gckib.iwanowice.pl
SUMMARY:Iwanowicka Akademia Futbolu (Iwanowice Włościańskie)
DESCRIPTION:Zajęcia piłkarskie prowadzone w ramach Iwanowickiej Akademii Futbolu
URL:https://gckib.iwanowice.pl/wydarzenie/iwanowicka-akademia-futbolu-20/
LOCATION:Iwanowice Włościańskie
ATTACH;FMTTYPE=image/jpeg:https://gckib.iwanowice.pl/wp-content/uploads/2019/02/Logotyp-01-844-x-844.jpg
END:VEVENT
BEGIN:VEVENT
DTSTART;TZID=Europe/Warsaw:20190603T163000
DTEND;TZID=Europe/Warsaw:20190603T210000
DTSTAMP:20260423T123701
CREATED:20190618T075215Z
LAST-MODIFIED:20190621T104930Z
UID:23829-1559579400-1559595600@gckib.iwanowice.pl
SUMMARY:Klub Seniora (Poskwitów Stary)
DESCRIPTION:Zajęcia prowadzone w Klubie Seniora w Poskwitowie Starym
URL:https://gckib.iwanowice.pl/wydarzenie/klub-seniora/
LOCATION:Świetlica Poskwitów Stary
ATTACH;FMTTYPE=image/png:https://gckib.iwanowice.pl/wp-content/uploads/2019/06/pobrane.png
END:VEVENT
BEGIN:VEVENT
DTSTART;TZID=Europe/Warsaw:20190604T151500
DTEND;TZID=Europe/Warsaw:20190604T161000
DTSTAMP:20260423T123701
CREATED:20190618T122048Z
LAST-MODIFIED:20190621T103458Z
UID:24136-1559661300-1559664600@gckib.iwanowice.pl
SUMMARY:Iwanowicka Akademia Futbolu (Narama)
DESCRIPTION:Trening dla grupy 0-1-2 z Naramy. Zajęcia są organizowane w ramach Iwanowickiej Akademii Futbolu
URL:https://gckib.iwanowice.pl/wydarzenie/iwanowicka-akademia-futbolu-narama-0-1-2/
ATTACH;FMTTYPE=image/png:https://gckib.iwanowice.pl/wp-content/uploads/2019/06/iwanowicka-akademia-futbolu.png
END:VEVENT
BEGIN:VEVENT
DTSTART;TZID=Europe/Warsaw:20190604T160000
DTEND;TZID=Europe/Warsaw:20190604T173000
DTSTAMP:20260423T123701
CREATED:20190618T080954Z
LAST-MODIFIED:20190618T080954Z
UID:23882-1559664000-1559669400@gckib.iwanowice.pl
SUMMARY:Język niemiecki
DESCRIPTION:Lekcje języka niemieckiego prowadzone w ramach projektu LOWE. Zajęcia odbywają się w Poskwitowie Starym (świetlica)
URL:https://gckib.iwanowice.pl/wydarzenie/jezyk-niemiecki/
LOCATION:Świetlica Poskwitów Stary
ATTACH;FMTTYPE=image/png:https://gckib.iwanowice.pl/wp-content/uploads/2019/06/Screen-Shot-06-18-19-at-10.05-AM.png
END:VEVENT
BEGIN:VEVENT
DTSTART;TZID=Europe/Warsaw:20190604T160000
DTEND;TZID=Europe/Warsaw:20190604T180000
DTSTAMP:20260423T123701
CREATED:20190618T094106Z
LAST-MODIFIED:20190618T095514Z
UID:23999-1559664000-1559671200@gckib.iwanowice.pl
SUMMARY:Klub Seniora (Sieciechowice)
DESCRIPTION:Zajęcia prowadzone w Klubie Seniora w Sieciechowicach
URL:https://gckib.iwanowice.pl/wydarzenie/klub-seniora-3/
LOCATION:Sieciechowice
ATTACH;FMTTYPE=image/png:https://gckib.iwanowice.pl/wp-content/uploads/2019/06/logo_klubseniora.png
END:VEVENT
BEGIN:VEVENT
DTSTART;TZID=Europe/Warsaw:20190604T160000
DTEND;TZID=Europe/Warsaw:20190604T180000
DTSTAMP:20260423T123701
CREATED:20190618T120052Z
LAST-MODIFIED:20190618T120052Z
UID:24092-1559664000-1559671200@gckib.iwanowice.pl
SUMMARY:Spotkanie Gminnego Zespołu Teatralnego „Kwadrat"
DESCRIPTION:Spotkania Gminnego Zespołu Teatralnego „Kwadrat” odbywają się regularnie w każdy wtorek o 16:00 w budynku GCKiB w Iwanowicach.
URL:https://gckib.iwanowice.pl/wydarzenie/spotkanie-gminnego-zespolu-teatralnego-kwadrat/
ATTACH;FMTTYPE=image/jpeg:https://gckib.iwanowice.pl/wp-content/uploads/2019/06/przedstawienie-czaszki-maski-rekwizyty-teatralne_1284-17232.jpg
END:VEVENT
BEGIN:VEVENT
DTSTART;TZID=Europe/Warsaw:20190604T160000
DTEND;TZID=Europe/Warsaw:20190604T183000
DTSTAMP:20260423T123701
CREATED:20190219T122246Z
LAST-MODIFIED:20190219T122246Z
UID:22147-1559664000-1559673000@gckib.iwanowice.pl
SUMMARY:Zajęcia rękodzielnicze
DESCRIPTION:S.P. Sieciechowice 
URL:https://gckib.iwanowice.pl/wydarzenie/zajecia-rekodzielnicze-24/
END:VEVENT
BEGIN:VEVENT
DTSTART;TZID=Europe/Warsaw:20190604T161500
DTEND;TZID=Europe/Warsaw:20190604T171000
DTSTAMP:20260423T123701
CREATED:20190618T122420Z
LAST-MODIFIED:20190618T124220Z
UID:24173-1559664900-1559668200@gckib.iwanowice.pl
SUMMARY:Iwanowicka Akademia Futbolu (Narama)
DESCRIPTION:Trening dla grupy 3-4-5 z Naramy. Zajęcia są organizowane w ramach Iwanowickiej Akademii Futbolu
URL:https://gckib.iwanowice.pl/wydarzenie/iwanowicka-akademia-futbolu-narama-3-4-5/
LOCATION:Narama
ATTACH;FMTTYPE=image/png:https://gckib.iwanowice.pl/wp-content/uploads/2019/06/iwanowicka-akademia-futbolu.png
END:VEVENT
BEGIN:VEVENT
DTSTART;TZID=Europe/Warsaw:20190604T163000
DTEND;TZID=Europe/Warsaw:20190604T210000
DTSTAMP:20260423T123701
CREATED:20190618T094653Z
LAST-MODIFIED:20190618T094653Z
UID:24011-1559665800-1559682000@gckib.iwanowice.pl
SUMMARY:Klub Seniora (Władysław)
DESCRIPTION:Zajęcia prowadzone w Klubie Seniora we Władysławie
URL:https://gckib.iwanowice.pl/wydarzenie/klub-seniora-wladyslaw/
LOCATION:Remiza OSP Władysław
ATTACH;FMTTYPE=image/png:https://gckib.iwanowice.pl/wp-content/uploads/2019/06/pobrane.png
END:VEVENT
BEGIN:VEVENT
DTSTART;TZID=Europe/Warsaw:20190604T183000
DTEND;TZID=Europe/Warsaw:20190604T193000
DTSTAMP:20260423T123701
CREATED:20190618T081902Z
LAST-MODIFIED:20190618T082155Z
UID:23893-1559673000-1559676600@gckib.iwanowice.pl
SUMMARY:ZUMBA
DESCRIPTION:Zajęcia taneczne ZUMBA odbywają się w każdy wtorek w małej sali przy Szkole Podstawowej w Iwanowicach Włościańskich. Zajęcia są odpłatne
URL:https://gckib.iwanowice.pl/wydarzenie/zumba-14/
LOCATION:mała sala przy ZS – P w Iwanowicach Włościańskich
ATTACH;FMTTYPE=image/jpeg:https://gckib.iwanowice.pl/wp-content/uploads/2019/06/6a00e550efb5fb8833010534df69cb970b-800wi.jpg
END:VEVENT
BEGIN:VEVENT
DTSTART;TZID=Europe/Warsaw:20190604T200000
DTEND;TZID=Europe/Warsaw:20190604T210000
DTSTAMP:20260423T123701
CREATED:20190618T082433Z
LAST-MODIFIED:20190618T121602Z
UID:23913-1559678400-1559682000@gckib.iwanowice.pl
SUMMARY:Fitness (Poskwitów Stary)
DESCRIPTION:Zajęcia Fitness prowadzone są w Poskwitowie Starym (świetlica) w ramach projektu LOWE
URL:https://gckib.iwanowice.pl/wydarzenie/fitness-54/
LOCATION:Świetlica Poskwitów Stary
ATTACH;FMTTYPE=image/png:https://gckib.iwanowice.pl/wp-content/uploads/2019/06/Screen-Shot-06-18-19-at-10.05-AM.png
END:VEVENT
BEGIN:VEVENT
DTSTART;TZID=Europe/Warsaw:20190604T200000
DTEND;TZID=Europe/Warsaw:20190604T210000
DTSTAMP:20260423T123701
CREATED:20190618T130427Z
LAST-MODIFIED:20190618T130531Z
UID:24404-1559678400-1559682000@gckib.iwanowice.pl
SUMMARY:Fitness (Poskwitów Stary)
DESCRIPTION:Zajęcia Fitness odbywają się w SP w Poskwitowie Starym w ramach projektu LOWE
URL:https://gckib.iwanowice.pl/wydarzenie/fitness-poskwitow-stary/
LOCATION:Świetlica Poskwitów Stary
ATTACH;FMTTYPE=image/png:https://gckib.iwanowice.pl/wp-content/uploads/2019/06/Screen-Shot-06-18-19-at-10.05-AM.png
END:VEVENT
BEGIN:VEVENT
DTSTART;TZID=Europe/Warsaw:20190605T150000
DTEND;TZID=Europe/Warsaw:20190605T173000
DTSTAMP:20260423T123701
CREATED:20190219T130737Z
LAST-MODIFIED:20190219T130737Z
UID:22183-1559746800-1559755800@gckib.iwanowice.pl
SUMMARY:Zajęcia rękodzielnicze
DESCRIPTION:S.P. Celiny 
URL:https://gckib.iwanowice.pl/wydarzenie/zajecia-rekodzielnicze-42/
END:VEVENT
BEGIN:VEVENT
DTSTART;TZID=Europe/Warsaw:20190605T160000
DTEND;TZID=Europe/Warsaw:20190605T180000
DTSTAMP:20260423T123701
CREATED:20190618T132020Z
LAST-MODIFIED:20190618T132020Z
UID:24442-1559750400-1559757600@gckib.iwanowice.pl
SUMMARY:Klub Seniora (Celiny)
DESCRIPTION:Zajęcia prowadzone w Klubie Seniora przy SP w Celinach\, realizowane w ramach projektu ASOS
URL:https://gckib.iwanowice.pl/wydarzenie/klub-seniora-celiny/
LOCATION:SP w Celinach
ATTACH;FMTTYPE=image/png:https://gckib.iwanowice.pl/wp-content/uploads/2019/06/logo_klubseniora.png
END:VEVENT
BEGIN:VEVENT
DTSTART;TZID=Europe/Warsaw:20190605T163000
DTEND;TZID=Europe/Warsaw:20190605T172000
DTSTAMP:20260423T123701
CREATED:20190220T093601Z
LAST-MODIFIED:20190618T131030Z
UID:22210-1559752200-1559755200@gckib.iwanowice.pl
SUMMARY:Fitness (Poskwitów Nowy)
DESCRIPTION:Zajęcia Fitness odbywają się w SP w Poskwitowie Nowym w ramach projektu ASOS
URL:https://gckib.iwanowice.pl/wydarzenie/fitness-10/
LOCATION:Poskwitów Nowy
ATTACH;FMTTYPE=image/png:https://gckib.iwanowice.pl/wp-content/uploads/2019/06/logo_klubseniora.png
END:VEVENT
BEGIN:VEVENT
DTSTART;TZID=Europe/Warsaw:20190605T163000
DTEND;TZID=Europe/Warsaw:20190605T210000
DTSTAMP:20260423T123701
CREATED:20190618T132302Z
LAST-MODIFIED:20190618T132302Z
UID:24462-1559752200-1559768400@gckib.iwanowice.pl
SUMMARY:Klub Seniora (Władysław)
DESCRIPTION:Zajęcia prowadzone w Klubie Seniora przy OSP we Władysławie\, realizowane w ramach projektu Senior+
URL:https://gckib.iwanowice.pl/wydarzenie/klub-seniora-wladyslaw-2/
LOCATION:Remiza OSP Władysław
ATTACH;FMTTYPE=image/png:https://gckib.iwanowice.pl/wp-content/uploads/2019/06/pobrane.png
END:VEVENT
BEGIN:VEVENT
DTSTART;TZID=Europe/Warsaw:20190605T173000
DTEND;TZID=Europe/Warsaw:20190605T183000
DTSTAMP:20260423T123701
CREATED:20190220T094749Z
LAST-MODIFIED:20190618T131532Z
UID:22228-1559755800-1559759400@gckib.iwanowice.pl
SUMMARY:Fitness (Widoma)
DESCRIPTION:Zajęcia Fitness odbywają się w SP w Widomej w ramach projektu ASOS
URL:https://gckib.iwanowice.pl/wydarzenie/fitness-19/
LOCATION:SP w Widomej
ATTACH;FMTTYPE=image/png:https://gckib.iwanowice.pl/wp-content/uploads/2019/06/logo_klubseniora.png
END:VEVENT
BEGIN:VEVENT
DTSTART;TZID=Europe/Warsaw:20190605T183000
DTEND;TZID=Europe/Warsaw:20190605T192000
DTSTAMP:20260423T123701
CREATED:20190220T095847Z
LAST-MODIFIED:20190618T121504Z
UID:22246-1559759400-1559762400@gckib.iwanowice.pl
SUMMARY:Fitness (Iwanowice)
DESCRIPTION:Zajęcia Fitness odbywają się w SP w Iwanowicach w ramach projektu LOWE
URL:https://gckib.iwanowice.pl/wydarzenie/fitness-28/
LOCATION:mała sala przy ZS – P w Iwanowicach Włościańskich
ATTACH;FMTTYPE=image/png:https://gckib.iwanowice.pl/wp-content/uploads/2019/06/Screen-Shot-06-18-19-at-10.05-AM.png
END:VEVENT
BEGIN:VEVENT
DTSTART;TZID=Europe/Warsaw:20190605T193000
DTEND;TZID=Europe/Warsaw:20190605T202000
DTSTAMP:20260423T123701
CREATED:20190618T125350Z
LAST-MODIFIED:20190618T125350Z
UID:24387-1559763000-1559766000@gckib.iwanowice.pl
SUMMARY:Fitness (Sieciechowice)
DESCRIPTION:Zajęcia Fitness odbywają się w SP w Sieciechowicach w ramach projektu LOWE
URL:https://gckib.iwanowice.pl/wydarzenie/fitness-sieciechowice/
LOCATION:SP w Sieciechowicach
ATTACH;FMTTYPE=image/png:https://gckib.iwanowice.pl/wp-content/uploads/2019/06/Screen-Shot-06-18-19-at-10.05-AM.png
END:VEVENT
BEGIN:VEVENT
DTSTART;TZID=Europe/Warsaw:20190606T125000
DTEND;TZID=Europe/Warsaw:20190606T143500
DTSTAMP:20260423T123701
CREATED:20190621T092517Z
LAST-MODIFIED:20190621T092517Z
UID:24548-1559825400-1559831700@gckib.iwanowice.pl
SUMMARY:Iwanowicka Akademia Futbolu (Celiny)
DESCRIPTION:Zajęcia dla grupy 3-4-5 w ramach Iwanowickiej Akademii Futbolu
URL:https://gckib.iwanowice.pl/wydarzenie/iwanowicka-akademia-futbolu-celiny/
LOCATION:Celiny
ATTACH;FMTTYPE=image/png:https://gckib.iwanowice.pl/wp-content/uploads/2019/06/iwanowicka-akademia-futbolu.png
END:VEVENT
BEGIN:VEVENT
DTSTART;TZID=Europe/Warsaw:20190606T133000
DTEND;TZID=Europe/Warsaw:20190606T133000
DTSTAMP:20260423T123701
CREATED:20190621T092738Z
LAST-MODIFIED:20190621T092738Z
UID:24555-1559827800-1559827800@gckib.iwanowice.pl
SUMMARY:Iwanowicka Akademia Futbolu (Celiny)
DESCRIPTION:Zajęcia dla grupy 0-1-2 w ramach Iwanowickiej Akademii Futbolu
URL:https://gckib.iwanowice.pl/wydarzenie/iwanowicka-akademia-futbolu-celiny-2/
LOCATION:Celiny
ATTACH;FMTTYPE=image/png:https://gckib.iwanowice.pl/wp-content/uploads/2019/06/iwanowicka-akademia-futbolu.png
END:VEVENT
BEGIN:VEVENT
DTSTART;TZID=Europe/Warsaw:20190606T143000
DTEND;TZID=Europe/Warsaw:20190606T173000
DTSTAMP:20260423T123701
CREATED:20190621T092149Z
LAST-MODIFIED:20190621T092149Z
UID:24541-1559831400-1559842200@gckib.iwanowice.pl
SUMMARY:Młody da Vinci
DESCRIPTION:Zajęcia innowacyjne organizowane dla dzieci z terenu gminy. W projekcie mogą wziąć udział dzieci z klasy 4-7 szkoły podstawowej \n\nRealizacja zajęć w bloku tematycznym MŁODY GENIUSZ – warsztaty z zakresu technik pamięciowych i technik szybkiego czytania\nRealizacje zajęć w bloku MŁODY BADACZ – warsztaty z przedmiotów przyrodniczo-matematycznych z wykorzystaniem wirtualnej rzeczywistości\, metod laboratoryjnych i wycieczek edukacyjnych\nRealizacje zajęć w bloku  MŁODY PROGRAMISTA – warsztaty z robotyki i programowania z wykorzystaniem różnego typu robotów\n\nWięcej informacji na stronie: https://www.humanitas.edu.pl/daVinci_Michalowice_Iwanowice
URL:https://gckib.iwanowice.pl/wydarzenie/mlody-da-vinci/
LOCATION:SP w Iwanowicach
ATTACH;FMTTYPE=image/jpeg:https://gckib.iwanowice.pl/wp-content/uploads/2019/06/Michałowice-Iwanowice-1754-x-2480-1080x1527.jpg
END:VEVENT
BEGIN:VEVENT
DTSTART;TZID=Europe/Warsaw:20190606T161500
DTEND;TZID=Europe/Warsaw:20190606T171000
DTSTAMP:20260423T123701
CREATED:20190621T092951Z
LAST-MODIFIED:20190621T092951Z
UID:24595-1559837700-1559841000@gckib.iwanowice.pl
SUMMARY:Iwanowicka Akademia Futbolu (Narama)
DESCRIPTION:Zajęcia dla grupy 3-4-5 w ramach Iwanowickiej Akademii Futbolu
URL:https://gckib.iwanowice.pl/wydarzenie/iwanowicka-akademia-futbolu-narama/
LOCATION:Narama
ATTACH;FMTTYPE=image/png:https://gckib.iwanowice.pl/wp-content/uploads/2019/06/iwanowicka-akademia-futbolu.png
END:VEVENT
BEGIN:VEVENT
DTSTART;TZID=Europe/Warsaw:20190606T163000
DTEND;TZID=Europe/Warsaw:20190606T210000
DTSTAMP:20260423T123701
CREATED:20190621T090715Z
LAST-MODIFIED:20190621T090715Z
UID:24511-1559838600-1559854800@gckib.iwanowice.pl
SUMMARY:Klub Seniora (Poskwitów Stary)
DESCRIPTION:Zajęcia prowadzone w Klubie Seniora w Poskwitowie Starym w ramach projektu Senior+
URL:https://gckib.iwanowice.pl/wydarzenie/klub-seniora-poskwitow-stary/
LOCATION:Świetlica Poskwitów Stary
ATTACH;FMTTYPE=image/png:https://gckib.iwanowice.pl/wp-content/uploads/2019/06/pobrane.png
END:VEVENT
BEGIN:VEVENT
DTSTART;TZID=Europe/Warsaw:20190607T133000
DTEND;TZID=Europe/Warsaw:20190607T142500
DTSTAMP:20260423T123701
CREATED:20190201T084231Z
LAST-MODIFIED:20190621T093909Z
UID:21802-1559914200-1559917500@gckib.iwanowice.pl
SUMMARY:Iwanowicka Akademia Futbolu (Iwanowice Włościańskie)
DESCRIPTION:Zajęcia piłkarskie prowadzone w ramach Iwanowickiej Akademii Futbolu
URL:https://gckib.iwanowice.pl/wydarzenie/iwanowicka-akademia-futbolu-39/
LOCATION:Iwanowice Włościańskie
ATTACH;FMTTYPE=image/jpeg:https://gckib.iwanowice.pl/wp-content/uploads/2019/02/Logotyp-01-844-x-844.jpg
END:VEVENT
END:VCALENDAR