BEGIN:VCALENDAR
VERSION:2.0
PRODID:-//GCKiB - ECPv6.15.20//NONSGML v1.0//EN
CALSCALE:GREGORIAN
METHOD:PUBLISH
X-WR-CALNAME:GCKiB
X-ORIGINAL-URL:https://gckib.iwanowice.pl
X-WR-CALDESC:Wydarzenia dla GCKiB
REFRESH-INTERVAL;VALUE=DURATION:PT1H
X-Robots-Tag:noindex
X-PUBLISHED-TTL:PT1H
BEGIN:VTIMEZONE
TZID:Europe/Warsaw
BEGIN:DAYLIGHT
TZOFFSETFROM:+0100
TZOFFSETTO:+0200
TZNAME:CEST
DTSTART:20170326T010000
END:DAYLIGHT
BEGIN:STANDARD
TZOFFSETFROM:+0200
TZOFFSETTO:+0100
TZNAME:CET
DTSTART:20171029T010000
END:STANDARD
BEGIN:DAYLIGHT
TZOFFSETFROM:+0100
TZOFFSETTO:+0200
TZNAME:CEST
DTSTART:20180325T010000
END:DAYLIGHT
BEGIN:STANDARD
TZOFFSETFROM:+0200
TZOFFSETTO:+0100
TZNAME:CET
DTSTART:20181028T010000
END:STANDARD
BEGIN:DAYLIGHT
TZOFFSETFROM:+0100
TZOFFSETTO:+0200
TZNAME:CEST
DTSTART:20190331T010000
END:DAYLIGHT
BEGIN:STANDARD
TZOFFSETFROM:+0200
TZOFFSETTO:+0100
TZNAME:CET
DTSTART:20191027T010000
END:STANDARD
BEGIN:DAYLIGHT
TZOFFSETFROM:+0100
TZOFFSETTO:+0200
TZNAME:CEST
DTSTART:20200329T010000
END:DAYLIGHT
BEGIN:STANDARD
TZOFFSETFROM:+0200
TZOFFSETTO:+0100
TZNAME:CET
DTSTART:20201025T010000
END:STANDARD
END:VTIMEZONE
BEGIN:VEVENT
DTSTART;TZID=Europe/Warsaw:20181208T090000
DTEND;TZID=Europe/Warsaw:20181208T100000
DTSTAMP:20260423T224654
CREATED:20180926T120243Z
LAST-MODIFIED:20180926T120243Z
UID:19272-1544259600-1544263200@gckib.iwanowice.pl
SUMMARY:Iwanowicki Uniwersytet Dziecięcy
DESCRIPTION:
URL:https://gckib.iwanowice.pl/wydarzenie/iwanowicki-uniwersytet-dzieciecy-11/
END:VEVENT
BEGIN:VEVENT
DTSTART;TZID=Europe/Warsaw:20181208T090000
DTEND;TZID=Europe/Warsaw:20181208T100000
DTSTAMP:20260423T224654
CREATED:20180926T121955Z
LAST-MODIFIED:20180926T121955Z
UID:19288-1544259600-1544263200@gckib.iwanowice.pl
SUMMARY:Akademia Rozwoju Rodzica
DESCRIPTION:
URL:https://gckib.iwanowice.pl/wydarzenie/akademia-rozwoju-rodzica-3/
END:VEVENT
BEGIN:VEVENT
DTSTART;TZID=Europe/Warsaw:20181208T100000
DTEND;TZID=Europe/Warsaw:20181208T120000
DTSTAMP:20260423T224654
CREATED:20180926T123224Z
LAST-MODIFIED:20180926T123224Z
UID:19305-1544263200-1544270400@gckib.iwanowice.pl
SUMMARY:Warsztaty plastyczne
DESCRIPTION:
URL:https://gckib.iwanowice.pl/wydarzenie/warsztaty-plastyczne-3/
END:VEVENT
BEGIN:VEVENT
DTSTART;TZID=Europe/Warsaw:20181210T160000
DTEND;TZID=Europe/Warsaw:20181210T190000
DTSTAMP:20260423T224654
CREATED:20180927T103113Z
LAST-MODIFIED:20180927T103113Z
UID:19500-1544457600-1544468400@gckib.iwanowice.pl
SUMMARY:LOWE Zajęcia rękodzielnicze w Sieciechowicach
DESCRIPTION:
URL:https://gckib.iwanowice.pl/wydarzenie/lowe-zajecia-rekodzielnicze-w-sieciechowicach-3/
END:VEVENT
BEGIN:VEVENT
DTSTART;TZID=Europe/Warsaw:20181213T150000
DTEND;TZID=Europe/Warsaw:20181213T180000
DTSTAMP:20260423T224654
CREATED:20180927T102021Z
LAST-MODIFIED:20180927T102039Z
UID:19481-1544713200-1544724000@gckib.iwanowice.pl
SUMMARY:LOWE Zajęcia rękodzielnicze w Celinach
DESCRIPTION:
URL:https://gckib.iwanowice.pl/wydarzenie/lowe-zajecia-rekodzielnicze-w-celinach-3/
END:VEVENT
BEGIN:VEVENT
DTSTART;TZID=Europe/Warsaw:20181214T090000
DTEND;TZID=Europe/Warsaw:20181214T094500
DTSTAMP:20260423T224654
CREATED:20181009T082017Z
LAST-MODIFIED:20181009T082017Z
UID:19803-1544778000-1544780700@gckib.iwanowice.pl
SUMMARY:Przedszkolak na Uczelni – Sieciechowice
DESCRIPTION:Wykład – Alicja w Krainie Czarów 
URL:https://gckib.iwanowice.pl/wydarzenie/przedszkolak-na-uczelni-sieciechowice-11/
END:VEVENT
BEGIN:VEVENT
DTSTART;TZID=Europe/Warsaw:20181214T100500
DTEND;TZID=Europe/Warsaw:20181214T105000
DTSTAMP:20260423T224654
CREATED:20181009T082118Z
LAST-MODIFIED:20181009T082118Z
UID:19805-1544781900-1544784600@gckib.iwanowice.pl
SUMMARY:Przedszkolak na Uczelni – Celiny
DESCRIPTION:Wykład – Alicja w Krainie Czarów
URL:https://gckib.iwanowice.pl/wydarzenie/przedszkolak-na-uczelni-celiny-3/
END:VEVENT
BEGIN:VEVENT
DTSTART;TZID=Europe/Warsaw:20181214T111000
DTEND;TZID=Europe/Warsaw:20181214T120000
DTSTAMP:20260423T224654
CREATED:20181009T082240Z
LAST-MODIFIED:20181009T082240Z
UID:19807-1544785800-1544788800@gckib.iwanowice.pl
SUMMARY:Przedszkolak na Uczelni – Iwanowice
DESCRIPTION:Wykład – Alicja w Krainie Czarów
URL:https://gckib.iwanowice.pl/wydarzenie/przedszkolak-na-uczelni-iwanowice-10/
END:VEVENT
BEGIN:VEVENT
DTSTART;TZID=Europe/Warsaw:20181214T130000
DTEND;TZID=Europe/Warsaw:20181214T134500
DTSTAMP:20260423T224654
CREATED:20181009T082543Z
LAST-MODIFIED:20181009T082543Z
UID:19809-1544792400-1544795100@gckib.iwanowice.pl
SUMMARY:Przedszkolak na Uczelni – Widoma
DESCRIPTION:Wykład – Alicja w Krainie Czarów
URL:https://gckib.iwanowice.pl/wydarzenie/przedszkolak-na-uczelni-widoma-11/
END:VEVENT
BEGIN:VEVENT
DTSTART;TZID=Europe/Warsaw:20190201T133000
DTEND;TZID=Europe/Warsaw:20190201T142500
DTSTAMP:20260423T224654
CREATED:20190201T082558Z
LAST-MODIFIED:20190201T082558Z
UID:21771-1549027800-1549031100@gckib.iwanowice.pl
SUMMARY:Iwanowicka Akademia Futbolu
DESCRIPTION:
URL:https://gckib.iwanowice.pl/wydarzenie/iwanowicka-akademia-futbolu-24/
ATTACH;FMTTYPE=image/jpeg:https://gckib.iwanowice.pl/wp-content/uploads/2019/02/Logotyp-01-844-x-844.jpg
END:VEVENT
BEGIN:VEVENT
DTSTART;TZID=Europe/Warsaw:20190202T090000
DTEND;TZID=Europe/Warsaw:20190202T100000
DTSTAMP:20260423T224654
CREATED:20180926T120407Z
LAST-MODIFIED:20180926T120407Z
UID:19274-1549098000-1549101600@gckib.iwanowice.pl
SUMMARY:Iwanowicki Uniwersytet Dziecięcy
DESCRIPTION:
URL:https://gckib.iwanowice.pl/wydarzenie/iwanowicki-uniwersytet-dzieciecy-12/
END:VEVENT
BEGIN:VEVENT
DTSTART;TZID=Europe/Warsaw:20190202T090000
DTEND;TZID=Europe/Warsaw:20190202T100000
DTSTAMP:20260423T224654
CREATED:20180926T122047Z
LAST-MODIFIED:20180926T122047Z
UID:19290-1549098000-1549101600@gckib.iwanowice.pl
SUMMARY:Akademia Rozwoju Rodzica
DESCRIPTION:
URL:https://gckib.iwanowice.pl/wydarzenie/akademia-rozwoju-rodzica-4/
END:VEVENT
BEGIN:VEVENT
DTSTART;TZID=Europe/Warsaw:20190202T100000
DTEND;TZID=Europe/Warsaw:20190202T120000
DTSTAMP:20260423T224654
CREATED:20180926T123314Z
LAST-MODIFIED:20180926T123314Z
UID:19307-1549101600-1549108800@gckib.iwanowice.pl
SUMMARY:Warsztaty plastyczne
DESCRIPTION:
URL:https://gckib.iwanowice.pl/wydarzenie/warsztaty-plastyczne-4/
END:VEVENT
BEGIN:VEVENT
DTSTART;TZID=Europe/Warsaw:20190204T130500
DTEND;TZID=Europe/Warsaw:20190204T140000
DTSTAMP:20260423T224654
CREATED:20190201T094454Z
LAST-MODIFIED:20190201T094454Z
UID:21811-1549285500-1549288800@gckib.iwanowice.pl
SUMMARY:Iwanowicka Akademia Futbolu - grupa 0-1-2 - Widoma
DESCRIPTION:
URL:https://gckib.iwanowice.pl/wydarzenie/iwanowicka-akademia-futbolu-grupa-0-1-2-widoma/
LOCATION:Widoma
ATTACH;FMTTYPE=image/jpeg:https://gckib.iwanowice.pl/wp-content/uploads/2019/02/Logotyp-01-844-x-844.jpg
END:VEVENT
BEGIN:VEVENT
DTSTART;TZID=Europe/Warsaw:20190204T153000
DTEND;TZID=Europe/Warsaw:20190204T162500
DTSTAMP:20260423T224654
CREATED:20190201T074005Z
LAST-MODIFIED:20190201T074005Z
UID:21726-1549294200-1549297500@gckib.iwanowice.pl
SUMMARY:Iwanowicka Akademia Futbolu
DESCRIPTION:
URL:https://gckib.iwanowice.pl/wydarzenie/iwanowicka-akademia-futbolu-4/
ATTACH;FMTTYPE=image/png:https://gckib.iwanowice.pl/wp-content/uploads/2019/02/Logotyp-01.png
END:VEVENT
BEGIN:VEVENT
DTSTART;TZID=Europe/Warsaw:20190208T090000
DTEND;TZID=Europe/Warsaw:20190208T094500
DTSTAMP:20260423T224654
CREATED:20181009T085506Z
LAST-MODIFIED:20181009T085506Z
UID:19814-1549616400-1549619100@gckib.iwanowice.pl
SUMMARY:Przedszkolak na Uczelni – Sieciechowice
DESCRIPTION:Wykład – Powietrzne eksperymenty
URL:https://gckib.iwanowice.pl/wydarzenie/przedszkolak-na-uczelni-sieciechowice-12/
END:VEVENT
BEGIN:VEVENT
DTSTART;TZID=Europe/Warsaw:20190208T100500
DTEND;TZID=Europe/Warsaw:20190208T105000
DTSTAMP:20260423T224654
CREATED:20181009T090349Z
LAST-MODIFIED:20181009T090349Z
UID:19818-1549620300-1549623000@gckib.iwanowice.pl
SUMMARY:Przedszkolak na Uczelni – Celiny
DESCRIPTION:Wykład – Powietrzne eksperymenty
URL:https://gckib.iwanowice.pl/wydarzenie/przedszkolak-na-uczelni-celiny-4/
END:VEVENT
BEGIN:VEVENT
DTSTART;TZID=Europe/Warsaw:20190208T111000
DTEND;TZID=Europe/Warsaw:20190208T120000
DTSTAMP:20260423T224654
CREATED:20181009T085730Z
LAST-MODIFIED:20181009T085730Z
UID:19816-1549624200-1549627200@gckib.iwanowice.pl
SUMMARY:Przedszkolak na Uczelni – Iwanowice
DESCRIPTION:Wykład – Powietrzne eksperymenty
URL:https://gckib.iwanowice.pl/wydarzenie/przedszkolak-na-uczelni-iwanowice-11/
END:VEVENT
BEGIN:VEVENT
DTSTART;TZID=Europe/Warsaw:20190208T130000
DTEND;TZID=Europe/Warsaw:20190208T134500
DTSTAMP:20260423T224654
CREATED:20181009T090505Z
LAST-MODIFIED:20181009T090505Z
UID:19820-1549630800-1549633500@gckib.iwanowice.pl
SUMMARY:Przedszkolak na Uczelni – Widoma
DESCRIPTION:Wykład – Powietrzne eksperymenty
URL:https://gckib.iwanowice.pl/wydarzenie/przedszkolak-na-uczelni-widoma-12/
END:VEVENT
BEGIN:VEVENT
DTSTART;TZID=Europe/Warsaw:20190208T133000
DTEND;TZID=Europe/Warsaw:20190208T142500
DTSTAMP:20260423T224654
CREATED:20190201T081933Z
LAST-MODIFIED:20190201T081933Z
UID:21769-1549632600-1549635900@gckib.iwanowice.pl
SUMMARY:Iwanowicka Akademia Futbolu
DESCRIPTION:
URL:https://gckib.iwanowice.pl/wydarzenie/iwanowicka-akademia-futbolu-23/
LOCATION:Iwanowice
ATTACH;FMTTYPE=image/jpeg:https://gckib.iwanowice.pl/wp-content/uploads/2019/02/Logotyp-01-844-x-844.jpg
END:VEVENT
BEGIN:VEVENT
DTSTART;VALUE=DATE:20190211
DTEND;VALUE=DATE:20190212
DTSTAMP:20260423T224654
CREATED:20190218T131655Z
LAST-MODIFIED:20190218T131655Z
UID:22037-1549843200-1549929599@gckib.iwanowice.pl
SUMMARY:Konkurs "Piłka - nowe eko oblicze"
DESCRIPTION:
URL:https://gckib.iwanowice.pl/wydarzenie/konkurs-pilka-nowe-eko-oblicze/
END:VEVENT
BEGIN:VEVENT
DTSTART;TZID=Europe/Warsaw:20190211T130500
DTEND;TZID=Europe/Warsaw:20190211T140000
DTSTAMP:20260423T224654
CREATED:20190201T094733Z
LAST-MODIFIED:20190201T094733Z
UID:21813-1549890300-1549893600@gckib.iwanowice.pl
SUMMARY:Iwanowicka Akademia Futbolu - grupa 0-1-2 - Widoma
DESCRIPTION:
URL:https://gckib.iwanowice.pl/wydarzenie/iwanowicka-akademia-futbolu-grupa-0-1-2-widoma-2/
ATTACH;FMTTYPE=image/jpeg:https://gckib.iwanowice.pl/wp-content/uploads/2019/02/Logotyp-01-844-x-844.jpg
END:VEVENT
BEGIN:VEVENT
DTSTART;TZID=Europe/Warsaw:20190211T153000
DTEND;TZID=Europe/Warsaw:20190211T162500
DTSTAMP:20260423T224654
CREATED:20190201T074216Z
LAST-MODIFIED:20190201T074216Z
UID:21730-1549899000-1549902300@gckib.iwanowice.pl
SUMMARY:Iwanowicka Akademia Futbolu
DESCRIPTION:
URL:https://gckib.iwanowice.pl/wydarzenie/iwanowicka-akademia-futbolu-5/
ATTACH;FMTTYPE=image/png:https://gckib.iwanowice.pl/wp-content/uploads/2019/02/Logotyp-01.png
END:VEVENT
BEGIN:VEVENT
DTSTART;TZID=Europe/Warsaw:20190215T133000
DTEND;TZID=Europe/Warsaw:20190215T142500
DTSTAMP:20260423T224654
CREATED:20190201T082724Z
LAST-MODIFIED:20190201T082724Z
UID:21773-1550237400-1550240700@gckib.iwanowice.pl
SUMMARY:Iwanowicka Akademia Futbolu
DESCRIPTION:
URL:https://gckib.iwanowice.pl/wydarzenie/iwanowicka-akademia-futbolu-25/
ATTACH;FMTTYPE=image/jpeg:https://gckib.iwanowice.pl/wp-content/uploads/2019/02/Logotyp-01-844-x-844.jpg
END:VEVENT
BEGIN:VEVENT
DTSTART;TZID=Europe/Warsaw:20190218T130500
DTEND;TZID=Europe/Warsaw:20190218T140000
DTSTAMP:20260423T224654
CREATED:20190201T095044Z
LAST-MODIFIED:20190201T095044Z
UID:21815-1550495100-1550498400@gckib.iwanowice.pl
SUMMARY:Iwanowicka Akademia Futbolu - grupa 0-1-2 - Widoma
DESCRIPTION:
URL:https://gckib.iwanowice.pl/wydarzenie/iwanowicka-akademia-futbolu-grupa-0-1-2-widoma-3/
LOCATION:Widoma
ATTACH;FMTTYPE=image/jpeg:https://gckib.iwanowice.pl/wp-content/uploads/2019/02/Logotyp-01-844-x-844.jpg
END:VEVENT
BEGIN:VEVENT
DTSTART;TZID=Europe/Warsaw:20190218T140500
DTEND;TZID=Europe/Warsaw:20190218T150000
DTSTAMP:20260423T224654
CREATED:20190218T135706Z
LAST-MODIFIED:20190218T135732Z
UID:22053-1550498700-1550502000@gckib.iwanowice.pl
SUMMARY:Iwanowicka Akademia Futbolu - grupa 3-4-5 - Widoma
DESCRIPTION:
URL:https://gckib.iwanowice.pl/wydarzenie/iwanowicka-akademia-futbolu-grupa-3-4-5-widoma/
LOCATION:Widoma
ATTACH;FMTTYPE=image/jpeg:https://gckib.iwanowice.pl/wp-content/uploads/2019/02/Logotyp-01-844-x-844.jpg
END:VEVENT
BEGIN:VEVENT
DTSTART;TZID=Europe/Warsaw:20190218T153000
DTEND;TZID=Europe/Warsaw:20190218T162500
DTSTAMP:20260423T224654
CREATED:20190201T074632Z
LAST-MODIFIED:20190201T074632Z
UID:21733-1550503800-1550507100@gckib.iwanowice.pl
SUMMARY:Iwanowicka Akademia Futbolu
DESCRIPTION:
URL:https://gckib.iwanowice.pl/wydarzenie/iwanowicka-akademia-futbolu-6/
LOCATION:Iwanowice
ATTACH;FMTTYPE=image/jpeg:https://gckib.iwanowice.pl/wp-content/uploads/2019/02/Logotyp-01-844-x-844.jpg
END:VEVENT
BEGIN:VEVENT
DTSTART;TZID=Europe/Warsaw:20190219T151500
DTEND;TZID=Europe/Warsaw:20190219T161000
DTSTAMP:20260423T224654
CREATED:20190218T141822Z
LAST-MODIFIED:20190218T141822Z
UID:22082-1550589300-1550592600@gckib.iwanowice.pl
SUMMARY:Iwanowicka Akademia Futbolu - grupa 0-1-2 - Narama
DESCRIPTION:
URL:https://gckib.iwanowice.pl/wydarzenie/iwanowicka-akademia-futbolu-grupa-0-1-2-narama/
LOCATION:Narama
ATTACH;FMTTYPE=image/jpeg:https://gckib.iwanowice.pl/wp-content/uploads/2019/02/Logotyp-01-844-x-844-1.jpg
END:VEVENT
BEGIN:VEVENT
DTSTART;TZID=Europe/Warsaw:20190219T160000
DTEND;TZID=Europe/Warsaw:20190219T183000
DTSTAMP:20260423T224654
CREATED:20190219T120536Z
LAST-MODIFIED:20190219T120536Z
UID:22117-1550592000-1550601000@gckib.iwanowice.pl
SUMMARY:Zajęcia rękodzielnicze
DESCRIPTION:S.P. Sieciechowice 
URL:https://gckib.iwanowice.pl/wydarzenie/zajecia-rekodzielnicze-9/
END:VEVENT
BEGIN:VEVENT
DTSTART;TZID=Europe/Warsaw:20190219T161500
DTEND;TZID=Europe/Warsaw:20190219T171000
DTSTAMP:20260423T224654
CREATED:20190218T141553Z
LAST-MODIFIED:20190218T141553Z
UID:22078-1550592900-1550596200@gckib.iwanowice.pl
SUMMARY:Iwanowicka Akademia Futbolu - grupa 3-4-5 - Narama
DESCRIPTION:
URL:https://gckib.iwanowice.pl/wydarzenie/iwanowicka-akademia-futbolu-grupa-3-4-5-narama-3/
ATTACH;FMTTYPE=image/jpeg:https://gckib.iwanowice.pl/wp-content/uploads/2019/02/Logotyp-01-844-x-844-1.jpg
END:VEVENT
END:VCALENDAR