BEGIN:VCALENDAR
VERSION:2.0
PRODID:-//GCKiB - ECPv6.15.20//NONSGML v1.0//EN
CALSCALE:GREGORIAN
METHOD:PUBLISH
X-WR-CALNAME:GCKiB
X-ORIGINAL-URL:https://gckib.iwanowice.pl
X-WR-CALDESC:Wydarzenia dla GCKiB
REFRESH-INTERVAL;VALUE=DURATION:PT1H
X-Robots-Tag:noindex
X-PUBLISHED-TTL:PT1H
BEGIN:VTIMEZONE
TZID:Europe/Warsaw
BEGIN:DAYLIGHT
TZOFFSETFROM:+0100
TZOFFSETTO:+0200
TZNAME:CEST
DTSTART:20160327T010000
END:DAYLIGHT
BEGIN:STANDARD
TZOFFSETFROM:+0200
TZOFFSETTO:+0100
TZNAME:CET
DTSTART:20161030T010000
END:STANDARD
BEGIN:DAYLIGHT
TZOFFSETFROM:+0100
TZOFFSETTO:+0200
TZNAME:CEST
DTSTART:20170326T010000
END:DAYLIGHT
BEGIN:STANDARD
TZOFFSETFROM:+0200
TZOFFSETTO:+0100
TZNAME:CET
DTSTART:20171029T010000
END:STANDARD
BEGIN:DAYLIGHT
TZOFFSETFROM:+0100
TZOFFSETTO:+0200
TZNAME:CEST
DTSTART:20180325T010000
END:DAYLIGHT
BEGIN:STANDARD
TZOFFSETFROM:+0200
TZOFFSETTO:+0100
TZNAME:CET
DTSTART:20181028T010000
END:STANDARD
END:VTIMEZONE
BEGIN:VEVENT
DTSTART;TZID=Europe/Warsaw:20170815T093000
DTEND;TZID=Europe/Warsaw:20170815T113000
DTSTAMP:20260425T051304
CREATED:20170802T134721Z
LAST-MODIFIED:20170802T134721Z
UID:11554-1502789400-1502796600@gckib.iwanowice.pl
SUMMARY:Święto Wojska Polskiego
DESCRIPTION:
URL:https://gckib.iwanowice.pl/wydarzenie/swieto-wojska-polskiego/
ATTACH;FMTTYPE=image/jpeg:https://gckib.iwanowice.pl/wp-content/uploads/2017/08/plakat-15-sierpnia.jpg
END:VEVENT
BEGIN:VEVENT
DTSTART;VALUE=DATE:20170819
DTEND;VALUE=DATE:20170820
DTSTAMP:20260425T051304
CREATED:20170412T101437Z
LAST-MODIFIED:20170808T095630Z
UID:8821-1503100800-1503187199@gckib.iwanowice.pl
SUMMARY:Jubileusz 50-lecia OSP Zalesie
DESCRIPTION:
URL:https://gckib.iwanowice.pl/wydarzenie/jubileusz-50-lecia-osp-zalesie/
LOCATION:Zalesie
ATTACH;FMTTYPE=image/jpeg:https://gckib.iwanowice.pl/wp-content/uploads/2017/04/Zalesie.jpg
END:VEVENT
BEGIN:VEVENT
DTSTART;TZID=Europe/Warsaw:20170826T080000
DTEND;TZID=Europe/Warsaw:20170826T170000
DTSTAMP:20260425T051304
CREATED:20170606T083900Z
LAST-MODIFIED:20170606T083900Z
UID:9643-1503734400-1503766800@gckib.iwanowice.pl
SUMMARY:Zakończenie wakacji w Naramie
DESCRIPTION:
URL:https://gckib.iwanowice.pl/wydarzenie/zakonczenie-wakacji-w-naramie/
END:VEVENT
BEGIN:VEVENT
DTSTART;VALUE=DATE:20170901
DTEND;VALUE=DATE:20170902
DTSTAMP:20260425T051304
CREATED:20170419T065513Z
LAST-MODIFIED:20170419T065626Z
UID:8880-1504224000-1504310399@gckib.iwanowice.pl
SUMMARY:100 lat  Szkoły Podstawowej im. Ks. Jana Twardowskiego w Widomej
DESCRIPTION:1. Msza Św. i złożenie kwiatów na grobach zmarłych nauczycieli \n2. Uroczyste rozpoczęcie roku szkolnego 2017/2018 \n3. Wspomnienia emerytowanych nauczycieli i pracowników szkoły \n4. Spotkanie emerytowanych nauczycieli i pracowników szkoły z członkami rady pedagogicznej \n 
URL:https://gckib.iwanowice.pl/wydarzenie/100-lat-szkoly-podstawowej-im-ks-jana-twardowskiego-w-widomej-3/
LOCATION:Widoma
ATTACH;FMTTYPE=image/jpeg:https://gckib.iwanowice.pl/wp-content/uploads/2017/04/Logo-100-lecia-szkoły.jpg
END:VEVENT
BEGIN:VEVENT
DTSTART;VALUE=DATE:20170904
DTEND;VALUE=DATE:20170905
DTSTAMP:20260425T051304
CREATED:20170124T093857Z
LAST-MODIFIED:20170124T093857Z
UID:7637-1504483200-1504569599@gckib.iwanowice.pl
SUMMARY:Żaba MeLa wyrusza w podróż
DESCRIPTION:Szkoła Podstawowa im. Wojska Polskiego w Damicach: 04.09.-29.09.2017r.
URL:https://gckib.iwanowice.pl/wydarzenie/zaba-mela-wyrusza-w-podroz-7/
LOCATION:Damice
ATTACH;FMTTYPE=image/jpeg:https://gckib.iwanowice.pl/wp-content/uploads/2017/01/zaba-Mela-na-strone-650-x-997.jpg
END:VEVENT
BEGIN:VEVENT
DTSTART;VALUE=DATE:20170923
DTEND;VALUE=DATE:20170924
DTSTAMP:20260425T051304
CREATED:20170215T113857Z
LAST-MODIFIED:20170419T065805Z
UID:7942-1506124800-1506211199@gckib.iwanowice.pl
SUMMARY:100 lat Szkoły Podstawowej im. Ks. Jana Twardowskiego w Widomej
DESCRIPTION:1. Godzina 9.00 – Msza Św. pod przewodnictwem Ordynariusza Diecezji Kieleckiej Ks. Bp Jana Piotrowskiego w kościele parafialnym w Widomej \n2. Uroczystości jubileuszowe w szkole \n3. Piknik rodzinny \n4. Bal dla absolwentów\, gości i gospodarzy
URL:https://gckib.iwanowice.pl/wydarzenie/100-lat-szkoly-podstawowej-im-ks-jana-twardowskiego-w-widomej/
LOCATION:Widoma
ATTACH;FMTTYPE=image/jpeg:https://gckib.iwanowice.pl/wp-content/uploads/2017/04/Logo-100-lecia-szkoły.jpg
END:VEVENT
BEGIN:VEVENT
DTSTART;TZID=Europe/Warsaw:20170927T163000
DTEND;TZID=Europe/Warsaw:20170927T174500
DTSTAMP:20260425T051304
CREATED:20170928T072615Z
LAST-MODIFIED:20170928T072615Z
UID:12190-1506529800-1506534300@gckib.iwanowice.pl
SUMMARY:Trening IAF - Iwanowice Akademia
DESCRIPTION:16.30-17.45 Orlik 
URL:https://gckib.iwanowice.pl/wydarzenie/trening-iaf-iwanowice-akademia-13/
ATTACH;FMTTYPE=image/png:https://gckib.iwanowice.pl/wp-content/uploads/2017/09/Logotyp-01.png
END:VEVENT
BEGIN:VEVENT
DTSTART;TZID=Europe/Warsaw:20170928T150000
DTEND;TZID=Europe/Warsaw:20170928T170000
DTSTAMP:20260425T051304
CREATED:20170928T104659Z
LAST-MODIFIED:20170928T104659Z
UID:12252-1506610800-1506618000@gckib.iwanowice.pl
SUMMARY:Trening IAF – SP Narama
DESCRIPTION:15.00-16.00 Klasa I-III\n16.00-17.00 Klasa IV-VI
URL:https://gckib.iwanowice.pl/wydarzenie/trening-iaf-sp-narama/
ATTACH;FMTTYPE=image/png:https://gckib.iwanowice.pl/wp-content/uploads/2017/09/Logotyp-01-1.png
END:VEVENT
BEGIN:VEVENT
DTSTART;TZID=Europe/Warsaw:20170929T163000
DTEND;TZID=Europe/Warsaw:20170929T174500
DTSTAMP:20260425T051304
CREATED:20170928T072945Z
LAST-MODIFIED:20170928T072945Z
UID:12192-1506702600-1506707100@gckib.iwanowice.pl
SUMMARY:Trening IAF - Iwanowice Akademia
DESCRIPTION:16.30-17.45 Orlik 
URL:https://gckib.iwanowice.pl/wydarzenie/trening-iaf-iwanowice-akademia-14/
ATTACH;FMTTYPE=image/png:https://gckib.iwanowice.pl/wp-content/uploads/2017/09/Logotyp-01.png
END:VEVENT
BEGIN:VEVENT
DTSTART;TZID=Europe/Warsaw:20171003T133000
DTEND;TZID=Europe/Warsaw:20171003T143000
DTSTAMP:20260425T051304
CREATED:20170929T101440Z
LAST-MODIFIED:20170929T102114Z
UID:12366-1507037400-1507041000@gckib.iwanowice.pl
SUMMARY:Trening IAF – SP Iwanowice
DESCRIPTION:13.30 Sala gimnastyczna 
URL:https://gckib.iwanowice.pl/wydarzenie/trening-iaf-sp-iwanowice/
ATTACH;FMTTYPE=image/png:https://gckib.iwanowice.pl/wp-content/uploads/2017/09/Logotyp-01-1.png
END:VEVENT
BEGIN:VEVENT
DTSTART;TZID=Europe/Warsaw:20171003T150000
DTEND;TZID=Europe/Warsaw:20171003T170000
DTSTAMP:20260425T051304
CREATED:20170928T104938Z
LAST-MODIFIED:20170928T104938Z
UID:12255-1507042800-1507050000@gckib.iwanowice.pl
SUMMARY:Trening IAF – SP Narama
DESCRIPTION:15.00-16.00 Klasa I-III\n16.00-17.00 Klasa IV-VI
URL:https://gckib.iwanowice.pl/wydarzenie/trening-iaf-sp-narama-2/
ATTACH;FMTTYPE=image/png:https://gckib.iwanowice.pl/wp-content/uploads/2017/09/Logotyp-01-1.png
END:VEVENT
BEGIN:VEVENT
DTSTART;TZID=Europe/Warsaw:20171004T134000
DTEND;TZID=Europe/Warsaw:20171004T154000
DTSTAMP:20260425T051304
CREATED:20170928T133313Z
LAST-MODIFIED:20170928T133313Z
UID:12305-1507124400-1507131600@gckib.iwanowice.pl
SUMMARY:Trening IAF – SP Widoma
DESCRIPTION:13.40 – 14.40 Klasy I-III\n14.40 – 15.40 Klasy IV-VI
URL:https://gckib.iwanowice.pl/wydarzenie/trening-iaf-sp-widoma/
LOCATION:Widoma
ATTACH;FMTTYPE=image/png:https://gckib.iwanowice.pl/wp-content/uploads/2017/09/Logotyp-01-1.png
END:VEVENT
BEGIN:VEVENT
DTSTART;TZID=Europe/Warsaw:20171004T163000
DTEND;TZID=Europe/Warsaw:20171004T174500
DTSTAMP:20260425T051304
CREATED:20170928T074500Z
LAST-MODIFIED:20170928T074500Z
UID:12194-1507134600-1507139100@gckib.iwanowice.pl
SUMMARY:Trening IAF - Iwanowice Akademia
DESCRIPTION:16.30-17.45 Orlik 
URL:https://gckib.iwanowice.pl/wydarzenie/trening-iaf-iwanowice-akademia-15/
ATTACH;FMTTYPE=image/png:https://gckib.iwanowice.pl/wp-content/uploads/2017/09/Logotyp-01.png
END:VEVENT
BEGIN:VEVENT
DTSTART;TZID=Europe/Warsaw:20171005T080000
DTEND;TZID=Europe/Warsaw:20171005T170000
DTSTAMP:20260425T051304
CREATED:20170928T105133Z
LAST-MODIFIED:20170928T105133Z
UID:12257-1507190400-1507222800@gckib.iwanowice.pl
SUMMARY:Trening IAF – SP Narama
DESCRIPTION:15.00-16.00 Klasa I-III\n16.00-17.00 Klasa IV-VI
URL:https://gckib.iwanowice.pl/wydarzenie/trening-iaf-sp-narama-3/
ATTACH;FMTTYPE=image/png:https://gckib.iwanowice.pl/wp-content/uploads/2017/09/Logotyp-01-1.png
END:VEVENT
BEGIN:VEVENT
DTSTART;TZID=Europe/Warsaw:20171005T133000
DTEND;TZID=Europe/Warsaw:20171005T143000
DTSTAMP:20260425T051304
CREATED:20170929T101944Z
LAST-MODIFIED:20170929T101944Z
UID:12368-1507210200-1507213800@gckib.iwanowice.pl
SUMMARY:Trening IAF – SP Iwanowice
DESCRIPTION:13.30 Sala gimnastyczna 
URL:https://gckib.iwanowice.pl/wydarzenie/trening-iaf-sp-iwanowice-2/
ATTACH;FMTTYPE=image/png:https://gckib.iwanowice.pl/wp-content/uploads/2017/09/Logotyp-01-1.png
END:VEVENT
BEGIN:VEVENT
DTSTART;TZID=Europe/Warsaw:20171006T134000
DTEND;TZID=Europe/Warsaw:20171006T154000
DTSTAMP:20260425T051304
CREATED:20170928T133501Z
LAST-MODIFIED:20170928T133501Z
UID:12308-1507297200-1507304400@gckib.iwanowice.pl
SUMMARY:Trening IAF – SP Widoma
DESCRIPTION:13.40 – 14.40 Klasy I-III\n14.40 – 15.40 Klasy IV-VI
URL:https://gckib.iwanowice.pl/wydarzenie/trening-iaf-sp-widoma-2/
LOCATION:Widoma
ATTACH;FMTTYPE=image/png:https://gckib.iwanowice.pl/wp-content/uploads/2017/09/Logotyp-01-1.png
END:VEVENT
BEGIN:VEVENT
DTSTART;TZID=Europe/Warsaw:20171006T163000
DTEND;TZID=Europe/Warsaw:20171006T174500
DTSTAMP:20260425T051304
CREATED:20170928T074927Z
LAST-MODIFIED:20170928T074927Z
UID:12196-1507307400-1507311900@gckib.iwanowice.pl
SUMMARY:Trening IAF – Iwanowice Akademia
DESCRIPTION:16.30-17.45 Orlik 
URL:https://gckib.iwanowice.pl/wydarzenie/trening-iaf-iwanowice-akademia-16/
ATTACH;FMTTYPE=image/png:https://gckib.iwanowice.pl/wp-content/uploads/2017/09/Logotyp-01.png
END:VEVENT
BEGIN:VEVENT
DTSTART;TZID=Europe/Warsaw:20171010T133000
DTEND;TZID=Europe/Warsaw:20171010T143000
DTSTAMP:20260425T051304
CREATED:20170929T102232Z
LAST-MODIFIED:20170929T102232Z
UID:12371-1507642200-1507645800@gckib.iwanowice.pl
SUMMARY:Trening IAF – SP Iwanowice
DESCRIPTION:13.30 Sala gimnastyczna 
URL:https://gckib.iwanowice.pl/wydarzenie/trening-iaf-sp-iwanowice-3/
LOCATION:Iwanowice
ATTACH;FMTTYPE=image/png:https://gckib.iwanowice.pl/wp-content/uploads/2017/09/Logotyp-01-1.png
END:VEVENT
BEGIN:VEVENT
DTSTART;TZID=Europe/Warsaw:20171010T150000
DTEND;TZID=Europe/Warsaw:20171010T170000
DTSTAMP:20260425T051304
CREATED:20170928T105313Z
LAST-MODIFIED:20170928T105313Z
UID:12259-1507647600-1507654800@gckib.iwanowice.pl
SUMMARY:Trening IAF – SP Narama
DESCRIPTION:15.00-16.00 Klasa I-III\n16.00-17.00 Klasa IV-VI
URL:https://gckib.iwanowice.pl/wydarzenie/trening-iaf-sp-narama-4/
ATTACH;FMTTYPE=image/png:https://gckib.iwanowice.pl/wp-content/uploads/2017/09/Logotyp-01-1.png
END:VEVENT
BEGIN:VEVENT
DTSTART;TZID=Europe/Warsaw:20171011T134000
DTEND;TZID=Europe/Warsaw:20171011T154000
DTSTAMP:20260425T051304
CREATED:20170928T133607Z
LAST-MODIFIED:20170928T133607Z
UID:12310-1507729200-1507736400@gckib.iwanowice.pl
SUMMARY:Trening IAF – SP Widoma
DESCRIPTION:13.40 – 14.40 Klasy I-III\n14.40 – 15.40 Klasy IV-VI
URL:https://gckib.iwanowice.pl/wydarzenie/trening-iaf-sp-widoma-3/
LOCATION:Widoma
ATTACH;FMTTYPE=image/png:https://gckib.iwanowice.pl/wp-content/uploads/2017/09/Logotyp-01-1.png
END:VEVENT
BEGIN:VEVENT
DTSTART;TZID=Europe/Warsaw:20171011T163000
DTEND;TZID=Europe/Warsaw:20171011T174500
DTSTAMP:20260425T051304
CREATED:20170928T075513Z
LAST-MODIFIED:20170928T075513Z
UID:12199-1507739400-1507743900@gckib.iwanowice.pl
SUMMARY:Trening IAF – Iwanowice Akademia
DESCRIPTION:16.30-17.45 Orlik 
URL:https://gckib.iwanowice.pl/wydarzenie/trening-iaf-iwanowice-akademia-17/
ATTACH;FMTTYPE=image/png:https://gckib.iwanowice.pl/wp-content/uploads/2017/09/Logotyp-01.png
END:VEVENT
BEGIN:VEVENT
DTSTART;TZID=Europe/Warsaw:20171012T133000
DTEND;TZID=Europe/Warsaw:20171012T143000
DTSTAMP:20260425T051304
CREATED:20170929T103237Z
LAST-MODIFIED:20170929T103237Z
UID:12373-1507815000-1507818600@gckib.iwanowice.pl
SUMMARY:Trening IAF – SP Iwanowice
DESCRIPTION:13.30 Sala gimnastyczna 
URL:https://gckib.iwanowice.pl/wydarzenie/trening-iaf-sp-iwanowice-4/
LOCATION:Iwanowice
ATTACH;FMTTYPE=image/png:https://gckib.iwanowice.pl/wp-content/uploads/2017/09/Logotyp-01-1.png
END:VEVENT
BEGIN:VEVENT
DTSTART;TZID=Europe/Warsaw:20171012T150000
DTEND;TZID=Europe/Warsaw:20171012T170000
DTSTAMP:20260425T051304
CREATED:20170928T105433Z
LAST-MODIFIED:20170928T105433Z
UID:12261-1507820400-1507827600@gckib.iwanowice.pl
SUMMARY:Trening IAF – SP Narama
DESCRIPTION:15.00-16.00 Klasa I-III\n16.00-17.00 Klasa IV-VI
URL:https://gckib.iwanowice.pl/wydarzenie/trening-iaf-sp-narama-5/
ATTACH;FMTTYPE=image/png:https://gckib.iwanowice.pl/wp-content/uploads/2017/09/Logotyp-01-1.png
END:VEVENT
BEGIN:VEVENT
DTSTART;TZID=Europe/Warsaw:20171013T134000
DTEND;TZID=Europe/Warsaw:20171013T154000
DTSTAMP:20260425T051305
CREATED:20170928T133836Z
LAST-MODIFIED:20170928T133836Z
UID:12312-1507902000-1507909200@gckib.iwanowice.pl
SUMMARY:Trening IAF – SP Widoma
DESCRIPTION:13.40 – 14.40 Klasy I-III\n14.40 – 15.40 Klasy IV-VI
URL:https://gckib.iwanowice.pl/wydarzenie/trening-iaf-sp-widoma-4/
LOCATION:Widoma
ATTACH;FMTTYPE=image/png:https://gckib.iwanowice.pl/wp-content/uploads/2017/09/Logotyp-01-1.png
END:VEVENT
BEGIN:VEVENT
DTSTART;TZID=Europe/Warsaw:20171013T163000
DTEND;TZID=Europe/Warsaw:20171013T174500
DTSTAMP:20260425T051305
CREATED:20170928T075740Z
LAST-MODIFIED:20170928T075740Z
UID:12201-1507912200-1507916700@gckib.iwanowice.pl
SUMMARY:Trening IAF – Iwanowice Akademia
DESCRIPTION:16.30-17.45 Orlik 
URL:https://gckib.iwanowice.pl/wydarzenie/trening-iaf-iwanowice-akademia-18/
ATTACH;FMTTYPE=image/png:https://gckib.iwanowice.pl/wp-content/uploads/2017/09/Logotyp-01.png
END:VEVENT
BEGIN:VEVENT
DTSTART;TZID=Europe/Warsaw:20171017T133000
DTEND;TZID=Europe/Warsaw:20171017T143000
DTSTAMP:20260425T051305
CREATED:20170929T103403Z
LAST-MODIFIED:20170929T103403Z
UID:12375-1508247000-1508250600@gckib.iwanowice.pl
SUMMARY:Trening IAF – SP Iwanowice
DESCRIPTION:13.30 Sala gimnastyczna 
URL:https://gckib.iwanowice.pl/wydarzenie/trening-iaf-sp-iwanowice-5/
ATTACH;FMTTYPE=image/png:https://gckib.iwanowice.pl/wp-content/uploads/2017/09/Logotyp-01-1.png
END:VEVENT
BEGIN:VEVENT
DTSTART;TZID=Europe/Warsaw:20171017T150000
DTEND;TZID=Europe/Warsaw:20171017T170000
DTSTAMP:20260425T051305
CREATED:20170928T105553Z
LAST-MODIFIED:20170928T105553Z
UID:12263-1508252400-1508259600@gckib.iwanowice.pl
SUMMARY:Trening IAF – SP Narama
DESCRIPTION:15.00-16.00 Klasa I-III\n16.00-17.00 Klasa IV-VI
URL:https://gckib.iwanowice.pl/wydarzenie/trening-iaf-sp-narama-6/
ATTACH;FMTTYPE=image/png:https://gckib.iwanowice.pl/wp-content/uploads/2017/09/Logotyp-01-1.png
END:VEVENT
BEGIN:VEVENT
DTSTART;TZID=Europe/Warsaw:20171018T134000
DTEND;TZID=Europe/Warsaw:20171018T154000
DTSTAMP:20260425T051305
CREATED:20170928T134252Z
LAST-MODIFIED:20170928T134252Z
UID:12314-1508334000-1508341200@gckib.iwanowice.pl
SUMMARY:Trening IAF – SP Widoma
DESCRIPTION:13.40 – 14.40 Klasy I-III\n14.40 – 15.40 Klasy IV-VI
URL:https://gckib.iwanowice.pl/wydarzenie/trening-iaf-sp-widoma-5/
LOCATION:Widoma
ATTACH;FMTTYPE=image/png:https://gckib.iwanowice.pl/wp-content/uploads/2017/09/Logotyp-01-1.png
END:VEVENT
BEGIN:VEVENT
DTSTART;TZID=Europe/Warsaw:20171018T135000
DTEND;TZID=Europe/Warsaw:20171018T155000
DTSTAMP:20260425T051305
CREATED:20171018T060520Z
LAST-MODIFIED:20171018T060520Z
UID:12584-1508334600-1508341800@gckib.iwanowice.pl
SUMMARY:Trening IAF - SP Celiny
DESCRIPTION:13.50 -15.50
URL:https://gckib.iwanowice.pl/wydarzenie/trening-iaf-sp-celiny/
ATTACH;FMTTYPE=image/png:https://gckib.iwanowice.pl/wp-content/uploads/2017/09/Logotyp-01-1.png
END:VEVENT
BEGIN:VEVENT
DTSTART;TZID=Europe/Warsaw:20171018T163000
DTEND;TZID=Europe/Warsaw:20171018T174500
DTSTAMP:20260425T051305
CREATED:20170928T075857Z
LAST-MODIFIED:20170928T075857Z
UID:12203-1508344200-1508348700@gckib.iwanowice.pl
SUMMARY:Trening IAF – Iwanowice Akademia
DESCRIPTION:16.30-17.45 Orlik 
URL:https://gckib.iwanowice.pl/wydarzenie/trening-iaf-iwanowice-akademia-19/
ATTACH;FMTTYPE=image/png:https://gckib.iwanowice.pl/wp-content/uploads/2017/09/Logotyp-01.png
END:VEVENT
END:VCALENDAR