BEGIN:VCALENDAR
VERSION:2.0
PRODID:-//GCKiB - ECPv6.15.20//NONSGML v1.0//EN
CALSCALE:GREGORIAN
METHOD:PUBLISH
X-WR-CALNAME:GCKiB
X-ORIGINAL-URL:https://gckib.iwanowice.pl
X-WR-CALDESC:Wydarzenia dla GCKiB
REFRESH-INTERVAL;VALUE=DURATION:PT1H
X-Robots-Tag:noindex
X-PUBLISHED-TTL:PT1H
BEGIN:VTIMEZONE
TZID:Europe/Warsaw
BEGIN:DAYLIGHT
TZOFFSETFROM:+0100
TZOFFSETTO:+0200
TZNAME:CEST
DTSTART:20250330T010000
END:DAYLIGHT
BEGIN:STANDARD
TZOFFSETFROM:+0200
TZOFFSETTO:+0100
TZNAME:CET
DTSTART:20251026T010000
END:STANDARD
BEGIN:DAYLIGHT
TZOFFSETFROM:+0100
TZOFFSETTO:+0200
TZNAME:CEST
DTSTART:20260329T010000
END:DAYLIGHT
BEGIN:STANDARD
TZOFFSETFROM:+0200
TZOFFSETTO:+0100
TZNAME:CET
DTSTART:20261025T010000
END:STANDARD
BEGIN:DAYLIGHT
TZOFFSETFROM:+0100
TZOFFSETTO:+0200
TZNAME:CEST
DTSTART:20270328T010000
END:DAYLIGHT
BEGIN:STANDARD
TZOFFSETFROM:+0200
TZOFFSETTO:+0100
TZNAME:CET
DTSTART:20271031T010000
END:STANDARD
END:VTIMEZONE
BEGIN:VEVENT
DTSTART;TZID=Europe/Warsaw:20260424T150000
DTEND;TZID=Europe/Warsaw:20260424T160000
DTSTAMP:20260424T020940
CREATED:20260312T105432Z
LAST-MODIFIED:20260312T105432Z
UID:57913-1777042800-1777046400@gckib.iwanowice.pl
SUMMARY:Capoeira gr. młodsza
DESCRIPTION:
URL:https://gckib.iwanowice.pl/wydarzenie/capoeira-gr-mlodsza-7/
CATEGORIES:Capoeira
END:VEVENT
BEGIN:VEVENT
DTSTART;TZID=Europe/Warsaw:20260424T160000
DTEND;TZID=Europe/Warsaw:20260424T170000
DTSTAMP:20260424T020940
CREATED:20260312T105521Z
LAST-MODIFIED:20260312T105521Z
UID:57915-1777046400-1777050000@gckib.iwanowice.pl
SUMMARY:Capoeira gr. starsza
DESCRIPTION:
URL:https://gckib.iwanowice.pl/wydarzenie/capoeira-gr-starsza-6/
CATEGORIES:Capoeira
END:VEVENT
END:VCALENDAR