BEGIN:VCALENDAR
VERSION:2.0
PRODID:-//GCKiB - ECPv6.15.20//NONSGML v1.0//EN
CALSCALE:GREGORIAN
METHOD:PUBLISH
X-WR-CALNAME:GCKiB
X-ORIGINAL-URL:https://gckib.iwanowice.pl
X-WR-CALDESC:Wydarzenia dla GCKiB
REFRESH-INTERVAL;VALUE=DURATION:PT1H
X-Robots-Tag:noindex
X-PUBLISHED-TTL:PT1H
BEGIN:VTIMEZONE
TZID:Europe/Warsaw
BEGIN:DAYLIGHT
TZOFFSETFROM:+0100
TZOFFSETTO:+0200
TZNAME:CEST
DTSTART:20250330T010000
END:DAYLIGHT
BEGIN:STANDARD
TZOFFSETFROM:+0200
TZOFFSETTO:+0100
TZNAME:CET
DTSTART:20251026T010000
END:STANDARD
BEGIN:DAYLIGHT
TZOFFSETFROM:+0100
TZOFFSETTO:+0200
TZNAME:CEST
DTSTART:20260329T010000
END:DAYLIGHT
BEGIN:STANDARD
TZOFFSETFROM:+0200
TZOFFSETTO:+0100
TZNAME:CET
DTSTART:20261025T010000
END:STANDARD
BEGIN:DAYLIGHT
TZOFFSETFROM:+0100
TZOFFSETTO:+0200
TZNAME:CEST
DTSTART:20270328T010000
END:DAYLIGHT
BEGIN:STANDARD
TZOFFSETFROM:+0200
TZOFFSETTO:+0100
TZNAME:CET
DTSTART:20271031T010000
END:STANDARD
END:VTIMEZONE
BEGIN:VEVENT
DTSTART;TZID=Europe/Warsaw:20260422T090000
DTEND;TZID=Europe/Warsaw:20260422T110000
DTSTAMP:20260422T020304
CREATED:20260312T125349Z
LAST-MODIFIED:20260312T125349Z
UID:58027-1776848400-1776855600@gckib.iwanowice.pl
SUMMARY:Spotkania z kulturą ludową
DESCRIPTION:
URL:https://gckib.iwanowice.pl/wydarzenie/spotkania-z-kultura-ludowa-4/
CATEGORIES:Muzeum Regionalne
END:VEVENT
BEGIN:VEVENT
DTSTART;TZID=Europe/Warsaw:20260422T180000
DTEND;TZID=Europe/Warsaw:20260422T190000
DTSTAMP:20260422T020304
CREATED:20260311T161213Z
LAST-MODIFIED:20260311T161213Z
UID:57721-1776880800-1776884400@gckib.iwanowice.pl
SUMMARY:Zumba Gold
DESCRIPTION:
URL:https://gckib.iwanowice.pl/wydarzenie/zumba-gold-87/
CATEGORIES:Zumba gold
END:VEVENT
BEGIN:VEVENT
DTSTART;TZID=Europe/Warsaw:20260422T190000
DTEND;TZID=Europe/Warsaw:20260422T200000
DTSTAMP:20260422T020304
CREATED:20260311T161339Z
LAST-MODIFIED:20260311T161339Z
UID:57723-1776884400-1776888000@gckib.iwanowice.pl
SUMMARY:Zumba Fitness
DESCRIPTION:
URL:https://gckib.iwanowice.pl/wydarzenie/zumba-fitness-82/
CATEGORIES:Zumba fitness
END:VEVENT
END:VCALENDAR